BEGIN:VCALENDAR
VERSION:2.0
PRODID:-//christusgemeinden.de//NONSGML kigkonsult.se iCalcreator 2.41.92//
CALSCALE:GREGORIAN
METHOD:PUBLISH
UID:38663863-3334-4330-a339-376365303738
X-WR-TIMEZONE:Europe/Berlin
X-LIC-LOCATION:Europe/Berlin
BEGIN:VTIMEZONE
TZID:Europe/Berlin
BEGIN:DAYLIGHT
TZOFFSETFROM:+0100
TZOFFSETTO:+0200
TZNAME:CEST
DTSTART:19700329T020000
RRULE:FREQ=YEARLY;BYDAY=-1SU;BYMONTH=3
END:DAYLIGHT
BEGIN:STANDARD
TZOFFSETFROM:+0200
TZOFFSETTO:+0100
TZNAME:CET
DTSTART:19701025T030000
RRULE:FREQ=YEARLY;BYDAY=-1SU;BYMONTH=10
END:STANDARD
END:VTIMEZONE
BEGIN:VEVENT
UID:32343964-3663-4963-b762-323332643165
DTSTAMP:20260421T221555Z
DESCRIPTION:bei Adelheid Liedtke in Obergrombach\n \n Weitere Termine:\n Do
 . 07.05.2026\, 09:15 Uhr\n Do. 11.06.2026\, 09:15 Uhr\n Do. 10.09.2026\, 0
 9:15 Uhr\n Do. 01.10.2026\, ganztägig\n Do. 05.11.2026\, 09:15 Uhr\n Mi. 0
 9.12.2026\, 18:00 Uhr\n \n Programm 2026 Frauenkreis.pdf [810.7 kB] Quelle
 : aw\n \n Veranstaltungsort:\n Obergrombach\n \n Veranstalter:\n Frauenkre
 is
DTSTART;TZID=Europe/Berlin:20260708T190000
DTEND;TZID=Europe/Berlin:20260708T230000
LOCATION:Obergrombach
SUMMARY:Sommerfest
X-ALT-DESC;FMTTYPE=text/html:bei Adelheid Liedtke in Obergrombach<br /><br 
 />Weitere Termine:<br />Do. 07.05.2026\, 09:15 Uhr<br />Do. 11.06.2026\, 0
 9:15 Uhr<br />Do. 10.09.2026\, 09:15 Uhr<br />Do. 01.10.2026\, ganztägig<b
 r />Do. 05.11.2026\, 09:15 Uhr<br />Mi. 09.12.2026\, 18:00 Uhr<br /><br />
 Programm 2026 Frauenkreis.pdf [810.7 kB]\n Quelle: aw<br /><br />Veranstal
 tungsort: <br />Obergrombach<br /><br />Veranstalter: <br />Frauenkreis
END:VEVENT
END:VCALENDAR
