BEGIN:VCALENDAR
VERSION:2.0
PRODID:-//christusgemeinden.de//NONSGML kigkonsult.se iCalcreator 2.41.92//
CALSCALE:GREGORIAN
METHOD:PUBLISH
UID:62653931-6263-4230-b736-373666376661
X-WR-TIMEZONE:Europe/Berlin
X-LIC-LOCATION:Europe/Berlin
BEGIN:VTIMEZONE
TZID:Europe/Berlin
BEGIN:DAYLIGHT
TZOFFSETFROM:+0100
TZOFFSETTO:+0200
TZNAME:CEST
DTSTART:19700329T020000
RRULE:FREQ=YEARLY;BYDAY=-1SU;BYMONTH=3
END:DAYLIGHT
BEGIN:STANDARD
TZOFFSETFROM:+0200
TZOFFSETTO:+0100
TZNAME:CET
DTSTART:19701025T030000
RRULE:FREQ=YEARLY;BYDAY=-1SU;BYMONTH=10
END:STANDARD
END:VTIMEZONE
BEGIN:VEVENT
UID:66346532-6136-4239-b661-373831663261
DTSTAMP:20260421T172132Z
DESCRIPTION:Ein Erlebnistag in Oberöwisheim Gastgeberin: Bettina Hartlieb\n
  \n Weitere Termine:\n Do. 07.05.2026\, 09:15 Uhr\n Mi. 08.07.2026\, 19:00
  Uhr\n Do. 10.09.2026\, 09:15 Uhr\n Do. 01.10.2026\, ganztägig\n Do. 05.11
 .2026\, 09:15 Uhr\n Mi. 09.12.2026\, 18:00 Uhr\n \n Programm 2026 Frauenkr
 eis.pdf [810.7 kB] Quelle: aw\n \n Veranstaltungsort:\n Oberöwisheim\n \n 
 Veranstalter:\n Frauenkreis
DTSTART;TZID=Europe/Berlin:20260611T091500
DTEND;TZID=Europe/Berlin:20260611T151500
LOCATION:Oberöwisheim
SUMMARY:„einzigArt“ im Kraichgau
X-ALT-DESC;FMTTYPE=text/html:Ein Erlebnistag in Oberöwisheim Gastgeberin: B
 ettina Hartlieb<br /><br />Weitere Termine:<br />Do. 07.05.2026\, 09:15 Uh
 r<br />Mi. 08.07.2026\, 19:00 Uhr<br />Do. 10.09.2026\, 09:15 Uhr<br />Do.
  01.10.2026\, ganztägig<br />Do. 05.11.2026\, 09:15 Uhr<br />Mi. 09.12.202
 6\, 18:00 Uhr<br /><br />Programm 2026 Frauenkreis.pdf [810.7 kB]\n Quelle
 : aw<br /><br />Veranstaltungsort: <br />Oberöwisheim<br /><br />Veranstal
 ter: <br />Frauenkreis
END:VEVENT
END:VCALENDAR
