BEGIN:VCALENDAR
VERSION:2.0
PRODID:-//christusgemeinden.de//NONSGML kigkonsult.se iCalcreator 2.41.92//
CALSCALE:GREGORIAN
METHOD:PUBLISH
UID:64366232-3731-4933-a363-663035346338
X-WR-TIMEZONE:Europe/Berlin
X-LIC-LOCATION:Europe/Berlin
BEGIN:VTIMEZONE
TZID:Europe/Berlin
BEGIN:DAYLIGHT
TZOFFSETFROM:+0100
TZOFFSETTO:+0200
TZNAME:CEST
DTSTART:19700329T020000
RRULE:FREQ=YEARLY;BYDAY=-1SU;BYMONTH=3
END:DAYLIGHT
BEGIN:STANDARD
TZOFFSETFROM:+0200
TZOFFSETTO:+0100
TZNAME:CET
DTSTART:19701025T030000
RRULE:FREQ=YEARLY;BYDAY=-1SU;BYMONTH=10
END:STANDARD
END:VTIMEZONE
BEGIN:VEVENT
UID:33363337-6463-4362-b465-323761366436
DTSTAMP:20260421T123631Z
DESCRIPTION:anschließend Besuch des Frosch-Cafés\n \n Frauenkreis\n \n Ansp
 rechpartner:in: Ellen Scheib\n \n Weitere Termine:\n Do. 11.06.2026\, 09:1
 5 Uhr\n Mi. 08.07.2026\, 19:00 Uhr\n Do. 10.09.2026\, 09:15 Uhr\n Do. 01.1
 0.2026\, ganztägig\n Do. 05.11.2026\, 09:15 Uhr\n Mi. 09.12.2026\, 18:00 U
 hr\n \n Programm 2026 Frauenkreis.pdf [810.7 kB] Quelle: aw\n \n Veranstal
 tungsort:\n Heimatmuseum Untergrombach\n \n Veranstalter:\n Frauenkreis
DTSTART;TZID=Europe/Berlin:20260506T091500
DTEND;TZID=Europe/Berlin:20260506T101500
LOCATION:Heimatmuseum Untergrombach
SUMMARY:„Neues“ im Heimatmuseum Untergrombach
X-ALT-DESC;FMTTYPE=text/html:anschließend Besuch des Frosch-Cafés<br /><br 
 />Frauenkreis<br /><br />Ansprechpartner:in: Ellen Scheib<br /><br />Weite
 re Termine:<br />Do. 11.06.2026\, 09:15 Uhr<br />Mi. 08.07.2026\, 19:00 Uh
 r<br />Do. 10.09.2026\, 09:15 Uhr<br />Do. 01.10.2026\, ganztägig<br />Do.
  05.11.2026\, 09:15 Uhr<br />Mi. 09.12.2026\, 18:00 Uhr<br /><br />Program
 m 2026 Frauenkreis.pdf [810.7 kB]\n Quelle: aw<br /><br />Veranstaltungsor
 t: <br />Heimatmuseum Untergrombach<br /><br />Veranstalter: <br />Frauenk
 reis
END:VEVENT
END:VCALENDAR
