BEGIN:VCALENDAR
VERSION:2.0
PRODID:-//christusgemeinden.de//NONSGML kigkonsult.se iCalcreator 2.41.92//
CALSCALE:GREGORIAN
METHOD:PUBLISH
UID:64633135-3163-4966-a233-653835396135
X-WR-TIMEZONE:Europe/Berlin
X-LIC-LOCATION:Europe/Berlin
BEGIN:VTIMEZONE
TZID:Europe/Berlin
BEGIN:DAYLIGHT
TZOFFSETFROM:+0100
TZOFFSETTO:+0200
TZNAME:CEST
DTSTART:19700329T020000
RRULE:FREQ=YEARLY;BYDAY=-1SU;BYMONTH=3
END:DAYLIGHT
BEGIN:STANDARD
TZOFFSETFROM:+0200
TZOFFSETTO:+0100
TZNAME:CET
DTSTART:19701025T030000
RRULE:FREQ=YEARLY;BYDAY=-1SU;BYMONTH=10
END:STANDARD
END:VTIMEZONE
BEGIN:VEVENT
UID:36373837-3463-4435-a237-376564343163
DTSTAMP:20260421T235433Z
DESCRIPTION:'Basisorientierung digital' für Kirchenälteste\n \n Kirchengeme
 inderats – oder Ältestenkreissitzungen sind oft geprägt von vollen Tagesor
 dnungen\, Baufragen und Finanzberichten. Wie können wir als Gremium eine H
 altung üben\, die über das reine Verwalten hinausgeht?\n \n Veranstaltungs
 ort:\n Online-Veranstaltung\n \n Veranstalter:\n EEB Karlsruhe\, Ökumenisc
 hes Bildungszentrum sanctclara Mannheim und Abt. Evangelische Erwachsenenb
 ildung und Geschlechterdialog im Evang. Oberkirchenrat\n Telefon: 07211671
 201
DTSTART;TZID=Europe/Berlin:20260504T190000
DTEND;TZID=Europe/Berlin:20260504T203000
LOCATION:Online-Veranstaltung
SUMMARY:Als Gremium geistlich leiten
X-ALT-DESC;FMTTYPE=text/html:'Basisorientierung digital' für Kirchenälteste
 <br /><br />Kirchengemeinderats – oder Ältestenkreissitzungen sind oft gep
 rägt von vollen Tagesordnungen\, Baufragen und Finanzberichten. Wie können
  wir als Gremium eine Haltung üben\, die über das reine Verwalten hinausge
 ht?<br /><br />Veranstaltungsort: <br />Online-Veranstaltung<br /><br />Ve
 ranstalter: <br />EEB Karlsruhe\, Ökumenisches Bildungszentrum sanctclara 
 Mannheim und Abt. Evangelische Erwachsenenbildung und Geschlechterdialog i
 m Evang. Oberkirchenrat<br />Telefon: 07211671201
END:VEVENT
END:VCALENDAR
