BEGIN:VCALENDAR
VERSION:2.0
PRODID:-//christusgemeinden.de//NONSGML kigkonsult.se iCalcreator 2.41.92//
CALSCALE:GREGORIAN
METHOD:PUBLISH
UID:34643661-6464-4539-b834-646635396532
X-WR-TIMEZONE:Europe/Berlin
X-LIC-LOCATION:Europe/Berlin
BEGIN:VTIMEZONE
TZID:Europe/Berlin
BEGIN:DAYLIGHT
TZOFFSETFROM:+0100
TZOFFSETTO:+0200
TZNAME:CEST
DTSTART:19700329T020000
RRULE:FREQ=YEARLY;BYDAY=-1SU;BYMONTH=3
END:DAYLIGHT
BEGIN:STANDARD
TZOFFSETFROM:+0200
TZOFFSETTO:+0100
TZNAME:CET
DTSTART:19701025T030000
RRULE:FREQ=YEARLY;BYDAY=-1SU;BYMONTH=10
END:STANDARD
END:VTIMEZONE
BEGIN:VEVENT
UID:38373834-3338-4239-b435-303039363239
DTSTAMP:20260422T085234Z
DESCRIPTION:Treffpunkt Heidelsheimer Kreuz (halbe Höhe Michaelsberg) Parkpl
 ätze in der Nähe\n \n Im Gehen gehts Meditative Wanderung\n \n Leitung: Pf
 arrerin Andrea Knauber\n \n Weitere Termine:\n Fr. 26.06.2026\, 17:00 Uhr
 \n Fr. 24.07.2026\, 17:00 Uhr\n \n im gehen 220526.pdf [463.1 kB] Quelle: 
 ak/ca\n \n Veranstaltungsort:\n Natur\n \n Veranstalter:\n Christusgemeind
 e Unter- und Obergrombach\n Joß-Fritz-Straße 30a\n 76646 Bruchsal-Untergro
 mbach\n Telefon: +49 7257 924 289\n Telefax: +49 7257 924 330\n https://ch
 ristusgemeinden.de/
DTSTART;TZID=Europe/Berlin:20260522T170000
DTEND;TZID=Europe/Berlin:20260522T183000
LOCATION:Natur
SUMMARY:Im Gehen gehts
X-ALT-DESC;FMTTYPE=text/html:Treffpunkt Heidelsheimer Kreuz (halbe Höhe Mic
 haelsberg) Parkplätze in der Nähe<br /><br />Im Gehen gehts   Meditative W
 anderung<br /><br />Leitung: Pfarrerin Andrea Knauber<br /><br />Weitere T
 ermine:<br />Fr. 26.06.2026\, 17:00 Uhr<br />Fr. 24.07.2026\, 17:00 Uhr<br
  /><br />im gehen 220526.pdf [463.1 kB]\n Quelle: ak/ca<br /><br />Veranst
 altungsort: <br />Natur<br /><br />Veranstalter: <br />Christusgemeinde Un
 ter- und Obergrombach<br />Joß-Fritz-Straße 30a<br />76646 Bruchsal-Unterg
 rombach<br />Telefon: +49 7257 924 289<br />Telefax: +49 7257 924 330<br /
 >https://christusgemeinden.de/
END:VEVENT
END:VCALENDAR
