BEGIN:VCALENDAR
VERSION:2.0
PRODID:-//christusgemeinden.de//NONSGML kigkonsult.se iCalcreator 2.41.92//
CALSCALE:GREGORIAN
METHOD:PUBLISH
UID:32366561-6234-4734-b362-623030323033
X-WR-TIMEZONE:Europe/Berlin
X-LIC-LOCATION:Europe/Berlin
BEGIN:VTIMEZONE
TZID:Europe/Berlin
BEGIN:DAYLIGHT
TZOFFSETFROM:+0100
TZOFFSETTO:+0200
TZNAME:CEST
DTSTART:19700329T020000
RRULE:FREQ=YEARLY;BYDAY=-1SU;BYMONTH=3
END:DAYLIGHT
BEGIN:STANDARD
TZOFFSETFROM:+0200
TZOFFSETTO:+0100
TZNAME:CET
DTSTART:19701025T030000
RRULE:FREQ=YEARLY;BYDAY=-1SU;BYMONTH=10
END:STANDARD
END:VTIMEZONE
BEGIN:VEVENT
UID:61653835-6662-4237-b537-386538626133
DTSTAMP:20260421T133138Z
DESCRIPTION:Treffpunkt Heidelsheimer Kreuz (halbe Höhe Michaelsberg) Parkpl
 ätze in der Nähe\n \n im gehen 260626.pdf [463.2 kB] Quelle: ak/ca\n \n Ve
 ranstaltungsort:\n Natur\n \n Veranstalter:\n Christusgemeinde Unter- und 
 Obergrombach\n Joß-Fritz-Straße 30a\n 76646 Bruchsal-Untergrombach\n Telef
 on: +49 7257 924 289\n Telefax: +49 7257 924 330\n https://christusgemeind
 en.de/
DTSTART;TZID=Europe/Berlin:20260626T170000
DTEND;TZID=Europe/Berlin:20260626T183000
LOCATION:Natur
SUMMARY:Im Gehen gehts
X-ALT-DESC;FMTTYPE=text/html:Treffpunkt Heidelsheimer Kreuz (halbe Höhe Mic
 haelsberg) Parkplätze in der Nähe<br /><br />im gehen 260626.pdf [463.2 kB
 ]\n Quelle: ak/ca<br /><br />Veranstaltungsort: <br />Natur<br /><br />Ver
 anstalter: <br />Christusgemeinde Unter- und Obergrombach<br />Joß-Fritz-S
 traße 30a<br />76646 Bruchsal-Untergrombach<br />Telefon: +49 7257 924 289
 <br />Telefax: +49 7257 924 330<br />https://christusgemeinden.de/
END:VEVENT
END:VCALENDAR
