BEGIN:VCALENDAR
VERSION:2.0
PRODID:-//christusgemeinden.de//NONSGML kigkonsult.se iCalcreator 2.41.92//
CALSCALE:GREGORIAN
METHOD:PUBLISH
UID:61336537-3839-4038-b861-626437376131
X-WR-TIMEZONE:Europe/Berlin
X-LIC-LOCATION:Europe/Berlin
BEGIN:VTIMEZONE
TZID:Europe/Berlin
BEGIN:DAYLIGHT
TZOFFSETFROM:+0100
TZOFFSETTO:+0200
TZNAME:CEST
DTSTART:19700329T020000
RRULE:FREQ=YEARLY;BYDAY=-1SU;BYMONTH=3
END:DAYLIGHT
BEGIN:STANDARD
TZOFFSETFROM:+0200
TZOFFSETTO:+0100
TZNAME:CET
DTSTART:19701025T030000
RRULE:FREQ=YEARLY;BYDAY=-1SU;BYMONTH=10
END:STANDARD
END:VTIMEZONE
BEGIN:VEVENT
UID:33316638-6162-4163-a437-363563386233
DTSTAMP:20260422T031113Z
DESCRIPTION:Treffpunkt Im Brüchle Untergrombach (Parkplätze beim Hundeverei
 n)\n \n Weitere Termine:\n Fr. 22.05.2026\, 17:00 Uhr\n Fr. 26.06.2026\, 1
 7:00 Uhr\n \n im gehen 240726.pdf [458.4 kB] Quelle: ak/ca\n \n Veranstalt
 ungsort:\n Natur\n \n Veranstalter:\n Christusgemeinde Unter- und Obergrom
 bach
DTSTART;TZID=Europe/Berlin:20260724T170000
DTEND;TZID=Europe/Berlin:20260724T183000
LOCATION:Natur
SUMMARY:Im Gehen gehts
X-ALT-DESC;FMTTYPE=text/html:Treffpunkt Im Brüchle Untergrombach (Parkplätz
 e beim Hundeverein)<br /><br />Weitere Termine:<br />Fr. 22.05.2026\, 17:0
 0 Uhr<br />Fr. 26.06.2026\, 17:00 Uhr<br /><br />im gehen 240726.pdf [458.
 4 kB]\n Quelle: ak/ca<br /><br />Veranstaltungsort: <br />Natur<br /><br /
 >Veranstalter: <br />Christusgemeinde Unter- und Obergrombach
END:VEVENT
END:VCALENDAR
