BEGIN:VCALENDAR
VERSION:2.0
PRODID:-//christusgemeinden.de//NONSGML kigkonsult.se iCalcreator 2.41.92//
CALSCALE:GREGORIAN
METHOD:PUBLISH
UID:37613139-3533-4435-b139-363332626237
X-WR-TIMEZONE:Europe/Berlin
X-LIC-LOCATION:Europe/Berlin
BEGIN:VTIMEZONE
TZID:Europe/Berlin
BEGIN:DAYLIGHT
TZOFFSETFROM:+0100
TZOFFSETTO:+0200
TZNAME:CEST
DTSTART:19700329T020000
RRULE:FREQ=YEARLY;BYDAY=-1SU;BYMONTH=3
END:DAYLIGHT
BEGIN:STANDARD
TZOFFSETFROM:+0200
TZOFFSETTO:+0100
TZNAME:CET
DTSTART:19701025T030000
RRULE:FREQ=YEARLY;BYDAY=-1SU;BYMONTH=10
END:STANDARD
END:VTIMEZONE
BEGIN:VEVENT
UID:66636564-3831-4032-b163-383461643735
DTSTAMP:20260421T203824Z
DESCRIPTION:Gottesdienste\n \n Liturgie:\n Lesungen:\n Musikalische Begleit
 ung:\n \n Veranstaltungsort:\n Haus Silbertal\n Ste.Marie-aux-Mines Straße
  24\n 76646 Bruchsal-Untergrombach\n \n Veranstalter:\n Christusgemeinde U
 nter- und Obergrombach\n Joß-Fritz-Straße 30a\n 76646 Bruchsal-Untergromba
 ch\n Telefon: +49 7257 924 289\n Telefax: +49 7257 924 330\n https://chris
 tusgemeinden.de/
DTSTART;TZID=Europe/Berlin:20261206T103000
DTEND;TZID=Europe/Berlin:20261206T113000
LOCATION:Haus Silbertal\n - Ste.Marie-aux-Mines Straße 24\n - 76646 Bruchsa
 l-Untergrombach
SUMMARY:Gottesdienst zum 2. Advent im Haus Silbertal
X-ALT-DESC;FMTTYPE=text/html:Gottesdienste<br /><br />Liturgie: <br />Lesun
 gen: <br />Musikalische Begleitung: <br /><br />Veranstaltungsort: <br />H
 aus Silbertal<br />Ste.Marie-aux-Mines Straße 24 <br />76646 Bruchsal-Unte
 rgrombach<br /><br />Veranstalter: <br />Christusgemeinde Unter- und Oberg
 rombach<br />Joß-Fritz-Straße 30a<br />76646 Bruchsal-Untergrombach<br />T
 elefon: +49 7257 924 289<br />Telefax: +49 7257 924 330<br />https://chris
 tusgemeinden.de/
END:VEVENT
END:VCALENDAR
