BEGIN:VCALENDAR
VERSION:2.0
PRODID:-//christusgemeinden.de//NONSGML kigkonsult.se iCalcreator 2.41.92//
CALSCALE:GREGORIAN
METHOD:PUBLISH
UID:37626134-6437-4536-b064-333137393061
X-WR-TIMEZONE:Europe/Berlin
X-LIC-LOCATION:Europe/Berlin
BEGIN:VTIMEZONE
TZID:Europe/Berlin
BEGIN:DAYLIGHT
TZOFFSETFROM:+0100
TZOFFSETTO:+0200
TZNAME:CEST
DTSTART:19700329T020000
RRULE:FREQ=YEARLY;BYDAY=-1SU;BYMONTH=3
END:DAYLIGHT
BEGIN:STANDARD
TZOFFSETFROM:+0200
TZOFFSETTO:+0100
TZNAME:CET
DTSTART:19701025T030000
RRULE:FREQ=YEARLY;BYDAY=-1SU;BYMONTH=10
END:STANDARD
END:VTIMEZONE
BEGIN:VEVENT
UID:32343836-3236-4139-b033-376637636638
DTSTAMP:20260421T221927Z
DESCRIPTION:Gottesdienste\n \n Weitere Termine:\n So. 29.11.2026\, 10:30 Uh
 r\n Fr. 25.12.2026\, 10:30 Uhr\n \n Veranstaltungsort:\n Kath. Pfarrzentru
 m Obergrombach\n Gustav-von-Bohlen-Strasse 11\n 76646 Bruchsal-Obergrombac
 h\n \n Veranstalter:\n Christusgemeinde Unter- und Obergrombach\n Joß-Frit
 z-Straße 30a\n 76646 Bruchsal-Untergrombach\n Telefon: +49 7257 924 289\n 
 Telefax: +49 7257 924 330\n https://christusgemeinden.de/
DTSTART;TZID=Europe/Berlin:20261213T103000
DTEND;TZID=Europe/Berlin:20261213T113000
LOCATION:Kath. Pfarrzentrum Obergrombach\n - Gustav-von-Bohlen-Strasse 11\n
  - 76646 Bruchsal-Obergrombach
SUMMARY:Gottesdienst
X-ALT-DESC;FMTTYPE=text/html:Gottesdienste<br /><br />Weitere Termine:<br /
 >So. 29.11.2026\, 10:30 Uhr<br />Fr. 25.12.2026\, 10:30 Uhr<br /><br />Ver
 anstaltungsort: <br />Kath. Pfarrzentrum Obergrombach<br />Gustav-von-Bohl
 en-Strasse 11<br />76646 Bruchsal-Obergrombach<br /><br />Veranstalter: <b
 r />Christusgemeinde Unter- und Obergrombach<br />Joß-Fritz-Straße 30a<br 
 />76646 Bruchsal-Untergrombach<br />Telefon: +49 7257 924 289<br />Telefax
 : +49 7257 924 330<br />https://christusgemeinden.de/
END:VEVENT
END:VCALENDAR
