BEGIN:VCALENDAR
VERSION:2.0
PRODID:-//christusgemeinden.de//NONSGML kigkonsult.se iCalcreator 2.41.92//
CALSCALE:GREGORIAN
METHOD:PUBLISH
UID:63623030-6234-4135-b565-653664303936
X-WR-TIMEZONE:Europe/Berlin
X-LIC-LOCATION:Europe/Berlin
BEGIN:VTIMEZONE
TZID:Europe/Berlin
BEGIN:DAYLIGHT
TZOFFSETFROM:+0100
TZOFFSETTO:+0200
TZNAME:CEST
DTSTART:19700329T020000
RRULE:FREQ=YEARLY;BYDAY=-1SU;BYMONTH=3
END:DAYLIGHT
BEGIN:STANDARD
TZOFFSETFROM:+0200
TZOFFSETTO:+0100
TZNAME:CET
DTSTART:19701025T030000
RRULE:FREQ=YEARLY;BYDAY=-1SU;BYMONTH=10
END:STANDARD
END:VTIMEZONE
BEGIN:VEVENT
UID:30383336-3439-4064-a337-383463313638
DTSTAMP:20260421T202051Z
DESCRIPTION:anschl. Mittagessen\n \n Gottesdienste\n \n Liturgie:\n Lesunge
 n:\n Musikalische Begleitung:\n \n Weitere Termine:\n So. 13.12.2026\, 10:
 30 Uhr\n Fr. 25.12.2026\, 10:30 Uhr\n \n Veranstaltungsort:\n Kath. Pfarrz
 entrum Obergrombach\n Gustav-von-Bohlen-Strasse 11\n 76646 Bruchsal-Obergr
 ombach\n \n Veranstalter:\n Christusgemeinde Unter- und Obergrombach\n Joß
 -Fritz-Straße 30a\n 76646 Bruchsal-Untergrombach\n Telefon: +49 7257 924 2
 89\n Telefax: +49 7257 924 330\n https://christusgemeinden.de/
DTSTART;TZID=Europe/Berlin:20261129T103000
DTEND;TZID=Europe/Berlin:20261129T113000
LOCATION:Kath. Pfarrzentrum Obergrombach\n - Gustav-von-Bohlen-Strasse 11\n
  - 76646 Bruchsal-Obergrombach
SUMMARY:Familiy-to-Go Gottesdienst zum 1. Advent
X-ALT-DESC;FMTTYPE=text/html:anschl. Mittagessen <br /><br />Gottesdienste<
 br /><br />Liturgie: <br />Lesungen: <br />Musikalische Begleitung: <br />
 <br />Weitere Termine:<br />So. 13.12.2026\, 10:30 Uhr<br />Fr. 25.12.2026
 \, 10:30 Uhr<br /><br />Veranstaltungsort: <br />Kath. Pfarrzentrum Obergr
 ombach<br />Gustav-von-Bohlen-Strasse 11<br />76646 Bruchsal-Obergrombach<
 br /><br />Veranstalter: <br />Christusgemeinde Unter- und Obergrombach<br
  />Joß-Fritz-Straße 30a<br />76646 Bruchsal-Untergrombach<br />Telefon: +4
 9 7257 924 289<br />Telefax: +49 7257 924 330<br />https://christusgemeind
 en.de/
END:VEVENT
END:VCALENDAR
