BEGIN:VCALENDAR
VERSION:2.0
PRODID:-//christusgemeinden.de//NONSGML kigkonsult.se iCalcreator 2.41.92//
CALSCALE:GREGORIAN
METHOD:PUBLISH
UID:34636663-6462-4365-b964-346263333866
X-WR-TIMEZONE:Europe/Berlin
X-LIC-LOCATION:Europe/Berlin
BEGIN:VTIMEZONE
TZID:Europe/Berlin
BEGIN:DAYLIGHT
TZOFFSETFROM:+0100
TZOFFSETTO:+0200
TZNAME:CEST
DTSTART:19700329T020000
RRULE:FREQ=YEARLY;BYDAY=-1SU;BYMONTH=3
END:DAYLIGHT
BEGIN:STANDARD
TZOFFSETFROM:+0200
TZOFFSETTO:+0100
TZNAME:CET
DTSTART:19701025T030000
RRULE:FREQ=YEARLY;BYDAY=-1SU;BYMONTH=10
END:STANDARD
END:VTIMEZONE
BEGIN:VEVENT
UID:39313862-6663-4661-b535-646337353632
DTSTAMP:20260421T123402Z
DESCRIPTION:Gottesdienste\n \n Liturgie:\n Lesungen:\n Orgel: Natalia Hock
 \n \n Weitere Termine:\n So. 17.05.2026\, 19:00 Uhr\n So. 14.06.2026\, 10:
 30 Uhr\n So. 28.06.2026\, 19:00 Uhr\n So. 12.07.2026\, 19:00 Uhr\n So. 26.
 07.2026\, 10:30 Uhr\n So. 09.08.2026\, 10:30 Uhr\n So. 23.08.2026\, 09:00 
 Uhr\n So. 27.09.2026\, 10:30 Uhr\n So. 11.10.2026\, 09:00 Uhr\n So. 25.10.
 2026\, 10:30 Uhr\n So. 08.11.2026\, 10:30 Uhr\n \n Veranstaltungsort:\n Sc
 hlosskirche\n Kirchenraum\n Brunnenstraße\n 76646 Bruchsal-Obergrombach\n 
 \n Veranstalter:\n Christusgemeinde Unter- und Obergrombach\n Joß-Fritz-St
 raße 30a\n 76646 Bruchsal-Untergrombach\n Telefon: +49 7257 924 289\n Tele
 fax: +49 7257 924 330\n https://christusgemeinden.de/
DTSTART;TZID=Europe/Berlin:20260906T090000
DTEND;TZID=Europe/Berlin:20260906T100000
LOCATION:Schlosskirche\n - Kirchenraum\n - Brunnenstraße\n - 76646 Bruchsal
 -Obergrombach
SUMMARY:Gottesdienst
X-ALT-DESC;FMTTYPE=text/html:Gottesdienste<br /><br />Liturgie: <br />Lesun
 gen: <br />Orgel: Natalia Hock<br /><br />Weitere Termine:<br />So. 17.05.
 2026\, 19:00 Uhr<br />So. 14.06.2026\, 10:30 Uhr<br />So. 28.06.2026\, 19:
 00 Uhr<br />So. 12.07.2026\, 19:00 Uhr<br />So. 26.07.2026\, 10:30 Uhr<br 
 />So. 09.08.2026\, 10:30 Uhr<br />So. 23.08.2026\, 09:00 Uhr<br />So. 27.0
 9.2026\, 10:30 Uhr<br />So. 11.10.2026\, 09:00 Uhr<br />So. 25.10.2026\, 1
 0:30 Uhr<br />So. 08.11.2026\, 10:30 Uhr<br /><br />Veranstaltungsort: <br
  />Schlosskirche<br />Kirchenraum<br />Brunnenstraße<br />76646 Bruchsal-O
 bergrombach<br /><br />Veranstalter: <br />Christusgemeinde Unter- und Obe
 rgrombach<br />Joß-Fritz-Straße 30a<br />76646 Bruchsal-Untergrombach<br /
 >Telefon: +49 7257 924 289<br />Telefax: +49 7257 924 330<br />https://chr
 istusgemeinden.de/
END:VEVENT
END:VCALENDAR
