BEGIN:VCALENDAR
VERSION:2.0
PRODID:-//christusgemeinden.de//NONSGML kigkonsult.se iCalcreator 2.41.92//
CALSCALE:GREGORIAN
METHOD:PUBLISH
UID:61643764-6330-4530-b934-383438633062
X-WR-TIMEZONE:Europe/Berlin
X-LIC-LOCATION:Europe/Berlin
BEGIN:VTIMEZONE
TZID:Europe/Berlin
BEGIN:DAYLIGHT
TZOFFSETFROM:+0100
TZOFFSETTO:+0200
TZNAME:CEST
DTSTART:19700329T020000
RRULE:FREQ=YEARLY;BYDAY=-1SU;BYMONTH=3
END:DAYLIGHT
BEGIN:STANDARD
TZOFFSETFROM:+0200
TZOFFSETTO:+0100
TZNAME:CET
DTSTART:19701025T030000
RRULE:FREQ=YEARLY;BYDAY=-1SU;BYMONTH=10
END:STANDARD
END:VTIMEZONE
BEGIN:VEVENT
UID:38646535-3861-4463-b535-616332383362
DTSTAMP:20260421T232749Z
DESCRIPTION:Wir feiern das Abendmahl\n \n Gottesdienste\n \n Liturgie:\n Le
 sungen:\n Orgel: Natalia Hock\n \n Weitere Termine:\n So. 17.05.2026\, 19:
 00 Uhr\n So. 14.06.2026\, 10:30 Uhr\n So. 28.06.2026\, 19:00 Uhr\n So. 12.
 07.2026\, 19:00 Uhr\n So. 26.07.2026\, 10:30 Uhr\n So. 09.08.2026\, 10:30 
 Uhr\n So. 06.09.2026\, 09:00 Uhr\n So. 27.09.2026\, 10:30 Uhr\n So. 11.10.
 2026\, 09:00 Uhr\n So. 25.10.2026\, 10:30 Uhr\n So. 08.11.2026\, 10:30 Uhr
 \n \n Veranstaltungsort:\n Schlosskirche\n Kirchenraum\n Brunnenstraße\n 7
 6646 Bruchsal-Obergrombach\n \n Veranstalter:\n Christusgemeinde Unter- un
 d Obergrombach\n Joß-Fritz-Straße 30a\n 76646 Bruchsal-Untergrombach\n Tel
 efon: +49 7257 924 289\n Telefax: +49 7257 924 330\n https://christusgemei
 nden.de/
DTSTART;TZID=Europe/Berlin:20260823T090000
DTEND;TZID=Europe/Berlin:20260823T100000
LOCATION:Schlosskirche\n - Kirchenraum\n - Brunnenstraße\n - 76646 Bruchsal
 -Obergrombach
SUMMARY:Gottesdienst
X-ALT-DESC;FMTTYPE=text/html:Wir feiern das Abendmahl<br /><br />Gottesdien
 ste<br /><br />Liturgie: <br />Lesungen: <br />Orgel: Natalia Hock<br /><b
 r />Weitere Termine:<br />So. 17.05.2026\, 19:00 Uhr<br />So. 14.06.2026\,
  10:30 Uhr<br />So. 28.06.2026\, 19:00 Uhr<br />So. 12.07.2026\, 19:00 Uhr
 <br />So. 26.07.2026\, 10:30 Uhr<br />So. 09.08.2026\, 10:30 Uhr<br />So. 
 06.09.2026\, 09:00 Uhr<br />So. 27.09.2026\, 10:30 Uhr<br />So. 11.10.2026
 \, 09:00 Uhr<br />So. 25.10.2026\, 10:30 Uhr<br />So. 08.11.2026\, 10:30 U
 hr<br /><br />Veranstaltungsort: <br />Schlosskirche<br />Kirchenraum<br /
 >Brunnenstraße<br />76646 Bruchsal-Obergrombach<br /><br />Veranstalter: <
 br />Christusgemeinde Unter- und Obergrombach<br />Joß-Fritz-Straße 30a<br
  />76646 Bruchsal-Untergrombach<br />Telefon: +49 7257 924 289<br />Telefa
 x: +49 7257 924 330<br />https://christusgemeinden.de/
END:VEVENT
END:VCALENDAR
