BEGIN:VCALENDAR
VERSION:2.0
PRODID:-//christusgemeinden.de//NONSGML kigkonsult.se iCalcreator 2.41.92//
CALSCALE:GREGORIAN
METHOD:PUBLISH
UID:65383036-6637-4433-b038-396364326333
X-WR-TIMEZONE:Europe/Berlin
X-LIC-LOCATION:Europe/Berlin
BEGIN:VTIMEZONE
TZID:Europe/Berlin
BEGIN:DAYLIGHT
TZOFFSETFROM:+0100
TZOFFSETTO:+0200
TZNAME:CEST
DTSTART:19700329T020000
RRULE:FREQ=YEARLY;BYDAY=-1SU;BYMONTH=3
END:DAYLIGHT
BEGIN:STANDARD
TZOFFSETFROM:+0200
TZOFFSETTO:+0100
TZNAME:CET
DTSTART:19701025T030000
RRULE:FREQ=YEARLY;BYDAY=-1SU;BYMONTH=10
END:STANDARD
END:VTIMEZONE
BEGIN:VEVENT
UID:36323031-3539-4764-b466-353562653130
DTSTAMP:20260421T203749Z
DESCRIPTION:Gottesdienste\n \n Liturgie:\n Lesungen:\n Musikalische Begleit
 ung: Natalia Hock\n \n Weitere Termine:\n So. 17.05.2026\, 19:00 Uhr\n So.
  14.06.2026\, 10:30 Uhr\n So. 28.06.2026\, 19:00 Uhr\n So. 12.07.2026\, 19
 :00 Uhr\n So. 09.08.2026\, 10:30 Uhr\n So. 23.08.2026\, 09:00 Uhr\n So. 06
 .09.2026\, 09:00 Uhr\n So. 27.09.2026\, 10:30 Uhr\n So. 11.10.2026\, 09:00
  Uhr\n So. 25.10.2026\, 10:30 Uhr\n So. 08.11.2026\, 10:30 Uhr\n \n Verans
 taltungsort:\n Im Städtl Obergrombach\n \n Veranstalter:\n Christusgemeind
 e Unter- und Obergrombach\n Joß-Fritz-Straße 30a\n 76646 Bruchsal-Untergro
 mbach\n Telefon: +49 7257 924 289\n Telefax: +49 7257 924 330\n https://ch
 ristusgemeinden.de/
DTSTART;TZID=Europe/Berlin:20260726T103000
DTEND;TZID=Europe/Berlin:20260726T113000
LOCATION:Im Städtl Obergrombach
SUMMARY:ökumenischer Gottesdienst zum Burgfest
X-ALT-DESC;FMTTYPE=text/html:Gottesdienste<br /><br />Liturgie: <br />Lesun
 gen: <br />Musikalische Begleitung: Natalia Hock<br /><br />Weitere Termin
 e:<br />So. 17.05.2026\, 19:00 Uhr<br />So. 14.06.2026\, 10:30 Uhr<br />So
 . 28.06.2026\, 19:00 Uhr<br />So. 12.07.2026\, 19:00 Uhr<br />So. 09.08.20
 26\, 10:30 Uhr<br />So. 23.08.2026\, 09:00 Uhr<br />So. 06.09.2026\, 09:00
  Uhr<br />So. 27.09.2026\, 10:30 Uhr<br />So. 11.10.2026\, 09:00 Uhr<br />
 So. 25.10.2026\, 10:30 Uhr<br />So. 08.11.2026\, 10:30 Uhr<br /><br />Vera
 nstaltungsort: <br />Im Städtl Obergrombach<br /><br />Veranstalter: <br /
 >Christusgemeinde Unter- und Obergrombach<br />Joß-Fritz-Straße 30a<br />7
 6646 Bruchsal-Untergrombach<br />Telefon: +49 7257 924 289<br />Telefax: +
 49 7257 924 330<br />https://christusgemeinden.de/
END:VEVENT
END:VCALENDAR
