BEGIN:VCALENDAR
VERSION:2.0
PRODID:-//christusgemeinden.de//NONSGML kigkonsult.se iCalcreator 2.41.92//
CALSCALE:GREGORIAN
METHOD:PUBLISH
UID:37316532-6262-4331-b466-633138663339
X-WR-TIMEZONE:Europe/Berlin
X-LIC-LOCATION:Europe/Berlin
BEGIN:VTIMEZONE
TZID:Europe/Berlin
BEGIN:DAYLIGHT
TZOFFSETFROM:+0100
TZOFFSETTO:+0200
TZNAME:CEST
DTSTART:19700329T020000
RRULE:FREQ=YEARLY;BYDAY=-1SU;BYMONTH=3
END:DAYLIGHT
BEGIN:STANDARD
TZOFFSETFROM:+0200
TZOFFSETTO:+0100
TZNAME:CET
DTSTART:19701025T030000
RRULE:FREQ=YEARLY;BYDAY=-1SU;BYMONTH=10
END:STANDARD
END:VTIMEZONE
BEGIN:VEVENT
UID:64386132-3535-4033-b532-376665326663
DTSTAMP:20260421T203819Z
DESCRIPTION:Gottesdienste\n \n Liturgie:\n Lesungen:\n Orgel: Natalia Hock
 \n \n Weitere Termine:\n So. 17.05.2026\, 19:00 Uhr\n So. 14.06.2026\, 10:
 30 Uhr\n So. 28.06.2026\, 19:00 Uhr\n So. 26.07.2026\, 10:30 Uhr\n So. 09.
 08.2026\, 10:30 Uhr\n So. 23.08.2026\, 09:00 Uhr\n So. 06.09.2026\, 09:00 
 Uhr\n So. 27.09.2026\, 10:30 Uhr\n So. 11.10.2026\, 09:00 Uhr\n So. 25.10.
 2026\, 10:30 Uhr\n So. 08.11.2026\, 10:30 Uhr\n \n 2026-Abendlob.pdf [1.7 
 MB] Quelle: ak/ca\n \n Veranstaltungsort:\n Schlosskirche\n Kirchenraum\n 
 Brunnenstraße\n 76646 Bruchsal-Obergrombach\n \n Veranstalter:\n Christusg
 emeinde Unter- und Obergrombach\n Joß-Fritz-Straße 30a\n 76646 Bruchsal-Un
 tergrombach\n Telefon: +49 7257 924 289\n Telefax: +49 7257 924 330\n http
 s://christusgemeinden.de/
DTSTART;TZID=Europe/Berlin:20260712T190000
DTEND;TZID=Europe/Berlin:20260712T200000
LOCATION:Schlosskirche\n - Kirchenraum\n - Brunnenstraße\n - 76646 Bruchsal
 -Obergrombach
SUMMARY:Abendlob bei Kerzenschein
X-ALT-DESC;FMTTYPE=text/html:Gottesdienste<br /><br />Liturgie: <br />Lesun
 gen: <br />Orgel: Natalia Hock<br /><br />Weitere Termine:<br />So. 17.05.
 2026\, 19:00 Uhr<br />So. 14.06.2026\, 10:30 Uhr<br />So. 28.06.2026\, 19:
 00 Uhr<br />So. 26.07.2026\, 10:30 Uhr<br />So. 09.08.2026\, 10:30 Uhr<br 
 />So. 23.08.2026\, 09:00 Uhr<br />So. 06.09.2026\, 09:00 Uhr<br />So. 27.0
 9.2026\, 10:30 Uhr<br />So. 11.10.2026\, 09:00 Uhr<br />So. 25.10.2026\, 1
 0:30 Uhr<br />So. 08.11.2026\, 10:30 Uhr<br /><br />2026-Abendlob.pdf [1.7
  MB]\n Quelle: ak/ca<br /><br />Veranstaltungsort: <br />Schlosskirche<br 
 />Kirchenraum<br />Brunnenstraße<br />76646 Bruchsal-Obergrombach<br /><br
  />Veranstalter: <br />Christusgemeinde Unter- und Obergrombach<br />Joß-F
 ritz-Straße 30a<br />76646 Bruchsal-Untergrombach<br />Telefon: +49 7257 9
 24 289<br />Telefax: +49 7257 924 330<br />https://christusgemeinden.de/
END:VEVENT
END:VCALENDAR
