BEGIN:VCALENDAR
VERSION:2.0
PRODID:-//christusgemeinden.de//NONSGML kigkonsult.se iCalcreator 2.41.92//
CALSCALE:GREGORIAN
METHOD:PUBLISH
UID:30316235-3564-4839-b634-666334633138
X-WR-TIMEZONE:Europe/Berlin
X-LIC-LOCATION:Europe/Berlin
BEGIN:VTIMEZONE
TZID:Europe/Berlin
BEGIN:DAYLIGHT
TZOFFSETFROM:+0100
TZOFFSETTO:+0200
TZNAME:CEST
DTSTART:19700329T020000
RRULE:FREQ=YEARLY;BYDAY=-1SU;BYMONTH=3
END:DAYLIGHT
BEGIN:STANDARD
TZOFFSETFROM:+0200
TZOFFSETTO:+0100
TZNAME:CET
DTSTART:19701025T030000
RRULE:FREQ=YEARLY;BYDAY=-1SU;BYMONTH=10
END:STANDARD
END:VTIMEZONE
BEGIN:VEVENT
UID:37386661-6337-4230-b764-393562363233
DTSTAMP:20260422T121355Z
DESCRIPTION:Adventstreff\, Gustav-Adolf-Kirche\n \n Projekt 58Plus\n \n Ans
 prechpartner:in: Waltraud Schnetzer\, Angela Kraft\, Reinhold Räuchle\n \n
  Weitere Termine:\n Mi. 22.04.2026\, ganztägig\n Mi. 20.05.2026\, ganztägi
 g\n Mi. 24.06.2026\, ganztägig\n Mi. 15.07.2026\, ganztägig\n Mi. 12.08.20
 26\, 12./19.08.2026\n Mi. 16.09.2026\, ganztägig\n Mi. 07.10.2026\, 07./14
 .10.2026\n Mi. 11.11.2026\, ganztägig\n \n Flyer-58Plus-2026.pdf [131.5 kB
 ] Quelle: aw\n \n Veranstaltungsort:\n Gustav-Adolf-Kirche\n Kirchenraum\n
  Bruchsaler Straße 63\n 76646 Bruchsal-Untergrombach\n \n Veranstalter:\n 
 58Plus
DTSTART;TZID=Europe/Berlin:20261209T180000
DTEND;TZID=Europe/Berlin:20261209T190000
LOCATION:Gustav-Adolf-Kirche\n - Kirchenraum\n - Bruchsaler Straße 63\n - 7
 6646 Bruchsal-Untergrombach
SUMMARY:Projekt 58plus der Christusgemeinde
X-ALT-DESC;FMTTYPE=text/html:Adventstreff\,  Gustav-Adolf-Kirche<br /><br /
 >Projekt 58Plus<br /><br />Ansprechpartner:in: Waltraud Schnetzer\, Angela
  Kraft\, Reinhold Räuchle<br /><br />Weitere Termine:<br />Mi. 22.04.2026\
 , ganztägig<br />Mi. 20.05.2026\, ganztägig<br />Mi. 24.06.2026\, ganztägi
 g<br />Mi. 15.07.2026\, ganztägig<br />Mi. 12.08.2026\, 12./19.08.2026<br 
 />Mi. 16.09.2026\, ganztägig<br />Mi. 07.10.2026\, 07./14.10.2026<br />Mi.
  11.11.2026\, ganztägig<br /><br />Flyer-58Plus-2026.pdf [131.5 kB]\n Quel
 le: aw<br /><br />Veranstaltungsort: <br />Gustav-Adolf-Kirche<br />Kirche
 nraum<br />Bruchsaler Straße 63<br />76646 Bruchsal-Untergrombach<br /><br
  />Veranstalter: <br />58Plus
END:VEVENT
END:VCALENDAR
