BEGIN:VCALENDAR
VERSION:2.0
PRODID:-//christusgemeinden.de//NONSGML kigkonsult.se iCalcreator 2.41.92//
CALSCALE:GREGORIAN
METHOD:PUBLISH
UID:38333931-6430-4437-a566-373735626237
X-WR-TIMEZONE:Europe/Berlin
X-LIC-LOCATION:Europe/Berlin
BEGIN:VTIMEZONE
TZID:Europe/Berlin
BEGIN:DAYLIGHT
TZOFFSETFROM:+0100
TZOFFSETTO:+0200
TZNAME:CEST
DTSTART:19700329T020000
RRULE:FREQ=YEARLY;BYDAY=-1SU;BYMONTH=3
END:DAYLIGHT
BEGIN:STANDARD
TZOFFSETFROM:+0200
TZOFFSETTO:+0100
TZNAME:CET
DTSTART:19701025T030000
RRULE:FREQ=YEARLY;BYDAY=-1SU;BYMONTH=10
END:STANDARD
END:VTIMEZONE
BEGIN:VEVENT
UID:61383038-6336-4933-b133-306137373361
DTSTAMP:20260422T121350Z
DESCRIPTION:Rückblick „58Plus“ seit 2017\n \n Projekt 58Plus\n \n Ansprechp
 artner:in: Angela Kraft\n \n Weitere Termine:\n Mi. 22.04.2026\, ganztägig
 \n Mi. 20.05.2026\, ganztägig\n Mi. 24.06.2026\, ganztägig\n Mi. 15.07.202
 6\, ganztägig\n Mi. 12.08.2026\, 12./19.08.2026\n Mi. 16.09.2026\, ganztäg
 ig\n Mi. 07.10.2026\, 07./14.10.2026\n Mi. 09.12.2026\, 18:00 Uhr\n \n Fly
 er-58Plus-2026.pdf [131.5 kB] Quelle: aw\n \n Veranstaltungsort:\n Informa
 tion über Ansprechpartner:in\n \n Veranstalter:\n 58Plus
DTSTART;VALUE=DATE:20261111
DTEND;VALUE=DATE:20261112
LOCATION:Information über Ansprechpartner:in
SUMMARY:Projekt 58plus der Christusgemeinde
X-ALT-DESC;FMTTYPE=text/html:Rückblick „58Plus“ seit 2017<br /><br />Projek
 t 58Plus<br /><br />Ansprechpartner:in: Angela Kraft<br /><br />Weitere Te
 rmine:<br />Mi. 22.04.2026\, ganztägig<br />Mi. 20.05.2026\, ganztägig<br 
 />Mi. 24.06.2026\, ganztägig<br />Mi. 15.07.2026\, ganztägig<br />Mi. 12.0
 8.2026\, 12./19.08.2026<br />Mi. 16.09.2026\, ganztägig<br />Mi. 07.10.202
 6\, 07./14.10.2026<br />Mi. 09.12.2026\, 18:00 Uhr<br /><br />Flyer-58Plus
 -2026.pdf [131.5 kB]\n Quelle: aw<br /><br />Veranstaltungsort: <br />Info
 rmation über Ansprechpartner:in<br /><br />Veranstalter: <br />58Plus
END:VEVENT
END:VCALENDAR
