BEGIN:VCALENDAR
VERSION:2.0
PRODID:-//christusgemeinden.de//NONSGML kigkonsult.se iCalcreator 2.41.92//
CALSCALE:GREGORIAN
METHOD:PUBLISH
UID:61376135-3761-4130-a130-643065306234
X-WR-TIMEZONE:Europe/Berlin
X-LIC-LOCATION:Europe/Berlin
BEGIN:VTIMEZONE
TZID:Europe/Berlin
BEGIN:DAYLIGHT
TZOFFSETFROM:+0100
TZOFFSETTO:+0200
TZNAME:CEST
DTSTART:19700329T020000
RRULE:FREQ=YEARLY;BYDAY=-1SU;BYMONTH=3
END:DAYLIGHT
BEGIN:STANDARD
TZOFFSETFROM:+0200
TZOFFSETTO:+0100
TZNAME:CET
DTSTART:19701025T030000
RRULE:FREQ=YEARLY;BYDAY=-1SU;BYMONTH=10
END:STANDARD
END:VTIMEZONE
BEGIN:VEVENT
UID:34333963-3262-4437-b464-376362386234
DTSTAMP:20260421T203900Z
DESCRIPTION:Wanderung von Baden-Baden zur Yburg\n \n Projekt 58Plus\n \n An
 sprechpartner:in: Michael Biedermann\n \n Weitere Termine:\n Mi. 22.04.202
 6\, ganztägig\n Mi. 20.05.2026\, ganztägig\n Mi. 24.06.2026\, ganztägig\n 
 Mi. 15.07.2026\, ganztägig\n Mi. 12.08.2026\, 12./19.08.2026\n Mi. 16.09.2
 026\, ganztägig\n Mi. 11.11.2026\, ganztägig\n Mi. 09.12.2026\, 18:00 Uhr
 \n \n Flyer-58Plus-2026.pdf [131.5 kB] Quelle: aw\n \n Veranstaltungsort:
 \n Information über Ansprechpartner:in\n \n Veranstalter:\n 58Plus
DTSTART;TZID=Europe/Berlin:20261007T220000
DTEND;TZID=Europe/Berlin:20261007T230000
LOCATION:Information über Ansprechpartner:in
SUMMARY:Projekt 58plus der Christusgemeinde
X-ALT-DESC;FMTTYPE=text/html:Wanderung von Baden-Baden zur Yburg<br /><br /
 >Projekt 58Plus<br /><br />Ansprechpartner:in: Michael Biedermann<br /><br
  />Weitere Termine:<br />Mi. 22.04.2026\, ganztägig<br />Mi. 20.05.2026\, 
 ganztägig<br />Mi. 24.06.2026\, ganztägig<br />Mi. 15.07.2026\, ganztägig<
 br />Mi. 12.08.2026\, 12./19.08.2026<br />Mi. 16.09.2026\, ganztägig<br />
 Mi. 11.11.2026\, ganztägig<br />Mi. 09.12.2026\, 18:00 Uhr<br /><br />Flye
 r-58Plus-2026.pdf [131.5 kB]\n Quelle: aw<br /><br />Veranstaltungsort: <b
 r />Information über Ansprechpartner:in<br /><br />Veranstalter: <br />58P
 lus
END:VEVENT
END:VCALENDAR
