BEGIN:VCALENDAR
VERSION:2.0
PRODID:-//christusgemeinden.de//NONSGML kigkonsult.se iCalcreator 2.41.92//
CALSCALE:GREGORIAN
METHOD:PUBLISH
UID:37343362-3037-4833-b261-663935616363
X-WR-TIMEZONE:Europe/Berlin
X-LIC-LOCATION:Europe/Berlin
BEGIN:VTIMEZONE
TZID:Europe/Berlin
BEGIN:DAYLIGHT
TZOFFSETFROM:+0100
TZOFFSETTO:+0200
TZNAME:CEST
DTSTART:19700329T020000
RRULE:FREQ=YEARLY;BYDAY=-1SU;BYMONTH=3
END:DAYLIGHT
BEGIN:STANDARD
TZOFFSETFROM:+0200
TZOFFSETTO:+0100
TZNAME:CET
DTSTART:19701025T030000
RRULE:FREQ=YEARLY;BYDAY=-1SU;BYMONTH=10
END:STANDARD
END:VTIMEZONE
BEGIN:VEVENT
UID:62383036-3335-4136-b838-333531316236
DTSTAMP:20260421T235559Z
DESCRIPTION:Besichtigung der Villa Bosch in Heidelberg mit Führung\n \n Pro
 jekt 58Plus\n \n Ansprechpartner:in: Harald Olsen\n \n Weitere Termine:\n 
 Mi. 22.04.2026\, ganztägig\n Mi. 20.05.2026\, ganztägig\n Mi. 24.06.2026\,
  ganztägig\n Mi. 15.07.2026\, ganztägig\n Mi. 16.09.2026\, ganztägig\n Mi.
  07.10.2026\, 07./14.10.2026\n Mi. 11.11.2026\, ganztägig\n Mi. 09.12.2026
 \, 18:00 Uhr\n \n Flyer-58Plus-2026.pdf [131.5 kB] Quelle: aw\n \n Veranst
 altungsort:\n Information über Ansprechpartner:in\n \n Veranstalter:\n 58P
 lus
DTSTART;TZID=Europe/Berlin:20260812T220000
DTEND;TZID=Europe/Berlin:20260812T230000
LOCATION:Information über Ansprechpartner:in
SUMMARY:Projekt 58plus der Christusgemeinde
X-ALT-DESC;FMTTYPE=text/html:Besichtigung der Villa Bosch in Heidelberg mit
  Führung<br /><br />Projekt 58Plus<br /><br />Ansprechpartner:in: Harald O
 lsen<br /><br />Weitere Termine:<br />Mi. 22.04.2026\, ganztägig<br />Mi. 
 20.05.2026\, ganztägig<br />Mi. 24.06.2026\, ganztägig<br />Mi. 15.07.2026
 \, ganztägig<br />Mi. 16.09.2026\, ganztägig<br />Mi. 07.10.2026\, 07./14.
 10.2026<br />Mi. 11.11.2026\, ganztägig<br />Mi. 09.12.2026\, 18:00 Uhr<br
  /><br />Flyer-58Plus-2026.pdf [131.5 kB]\n Quelle: aw<br /><br />Veransta
 ltungsort: <br />Information über Ansprechpartner:in<br /><br />Veranstalt
 er: <br />58Plus
END:VEVENT
END:VCALENDAR
