BEGIN:VCALENDAR
VERSION:2.0
PRODID:-//christusgemeinden.de//NONSGML kigkonsult.se iCalcreator 2.41.92//
CALSCALE:GREGORIAN
METHOD:PUBLISH
UID:31623762-3262-4963-b432-393764363535
X-WR-TIMEZONE:Europe/Berlin
X-LIC-LOCATION:Europe/Berlin
BEGIN:VTIMEZONE
TZID:Europe/Berlin
BEGIN:DAYLIGHT
TZOFFSETFROM:+0100
TZOFFSETTO:+0200
TZNAME:CEST
DTSTART:19700329T020000
RRULE:FREQ=YEARLY;BYDAY=-1SU;BYMONTH=3
END:DAYLIGHT
BEGIN:STANDARD
TZOFFSETFROM:+0200
TZOFFSETTO:+0100
TZNAME:CET
DTSTART:19701025T030000
RRULE:FREQ=YEARLY;BYDAY=-1SU;BYMONTH=10
END:STANDARD
END:VTIMEZONE
BEGIN:VEVENT
UID:62613731-6137-4166-a535-663061343864
DTSTAMP:20260421T203940Z
DESCRIPTION:Wanderung nach Michelbach bei Gaggenau\, ca. 10 km. Anfahrt mit
  der Bahn/Bus\n \n Projekt 58Plus\n \n Ansprechpartner:in: Andreas Wicke\,
  Horst Gringmuth\n \n Weitere Termine:\n Mi. 22.04.2026\, ganztägig\n Mi. 
 20.05.2026\, ganztägig\n Mi. 24.06.2026\, ganztägig\n Mi. 12.08.2026\, 12.
 /19.08.2026\n Mi. 16.09.2026\, ganztägig\n Mi. 07.10.2026\, 07./14.10.2026
 \n Mi. 11.11.2026\, ganztägig\n Mi. 09.12.2026\, 18:00 Uhr\n \n Flyer-58Pl
 us-2026.pdf [131.5 kB] Quelle: aw\n \n Veranstaltungsort:\n Information üb
 er Ansprechpartner:in\n \n Veranstalter:\n 58Plus
DTSTART;VALUE=DATE:20260715
DTEND;VALUE=DATE:20260716
LOCATION:Information über Ansprechpartner:in
SUMMARY:Projekt 58plus der Christusgemeinde
X-ALT-DESC;FMTTYPE=text/html:Wanderung nach Michelbach bei Gaggenau\, ca. 1
 0 km. Anfahrt mit der Bahn/Bus<br /><br />Projekt 58Plus<br /><br />Anspre
 chpartner:in: Andreas Wicke\, Horst Gringmuth<br /><br />Weitere Termine:<
 br />Mi. 22.04.2026\, ganztägig<br />Mi. 20.05.2026\, ganztägig<br />Mi. 2
 4.06.2026\, ganztägig<br />Mi. 12.08.2026\, 12./19.08.2026<br />Mi. 16.09.
 2026\, ganztägig<br />Mi. 07.10.2026\, 07./14.10.2026<br />Mi. 11.11.2026\
 , ganztägig<br />Mi. 09.12.2026\, 18:00 Uhr<br /><br />Flyer-58Plus-2026.p
 df [131.5 kB]\n Quelle: aw<br /><br />Veranstaltungsort: <br />Information
  über Ansprechpartner:in<br /><br />Veranstalter: <br />58Plus
END:VEVENT
END:VCALENDAR
