BEGIN:VCALENDAR
VERSION:2.0
PRODID:-//christusgemeinden.de//NONSGML kigkonsult.se iCalcreator 2.41.92//
CALSCALE:GREGORIAN
METHOD:PUBLISH
UID:66396137-6161-4662-b163-353363386235
X-WR-TIMEZONE:Europe/Berlin
X-LIC-LOCATION:Europe/Berlin
BEGIN:VTIMEZONE
TZID:Europe/Berlin
BEGIN:DAYLIGHT
TZOFFSETFROM:+0100
TZOFFSETTO:+0200
TZNAME:CEST
DTSTART:19700329T020000
RRULE:FREQ=YEARLY;BYDAY=-1SU;BYMONTH=3
END:DAYLIGHT
BEGIN:STANDARD
TZOFFSETFROM:+0200
TZOFFSETTO:+0100
TZNAME:CET
DTSTART:19701025T030000
RRULE:FREQ=YEARLY;BYDAY=-1SU;BYMONTH=10
END:STANDARD
END:VTIMEZONE
BEGIN:VEVENT
UID:30376631-3233-4230-a333-376635333461
DTSTAMP:20260422T092514Z
DESCRIPTION:Pfalzwanderung Drachenfels/Busenberg mit Einkehr.\n \n Projekt 
 58Plus\n \n Ansprechpartner:in: Erich Heß\n \n Weitere Termine:\n Mi. 22.0
 4.2026\, ganztägig\n Mi. 24.06.2026\, ganztägig\n Mi. 15.07.2026\, ganztäg
 ig\n Mi. 12.08.2026\, 12./19.08.2026\n Mi. 16.09.2026\, ganztägig\n Mi. 07
 .10.2026\, 07./14.10.2026\n Mi. 11.11.2026\, ganztägig\n Mi. 09.12.2026\, 
 18:00 Uhr\n \n Flyer-58Plus-2026.pdf [131.5 kB] Quelle: aw\n \n Veranstalt
 ungsort:\n Information über Ansprechpartner:in\n \n Veranstalter:\n 58Plus
DTSTART;VALUE=DATE:20260520
DTEND;VALUE=DATE:20260521
LOCATION:Information über Ansprechpartner:in
SUMMARY:Projekt 58plus der Christusgemeinde
X-ALT-DESC;FMTTYPE=text/html:Pfalzwanderung Drachenfels/Busenberg mit Einke
 hr.<br /><br />Projekt 58Plus<br /><br />Ansprechpartner:in: Erich Heß<br 
 /><br />Weitere Termine:<br />Mi. 22.04.2026\, ganztägig<br />Mi. 24.06.20
 26\, ganztägig<br />Mi. 15.07.2026\, ganztägig<br />Mi. 12.08.2026\, 12./1
 9.08.2026<br />Mi. 16.09.2026\, ganztägig<br />Mi. 07.10.2026\, 07./14.10.
 2026<br />Mi. 11.11.2026\, ganztägig<br />Mi. 09.12.2026\, 18:00 Uhr<br />
 <br />Flyer-58Plus-2026.pdf [131.5 kB]\n Quelle: aw<br /><br />Veranstaltu
 ngsort: <br />Information über Ansprechpartner:in<br /><br />Veranstalter:
  <br />58Plus
END:VEVENT
END:VCALENDAR
