BEGIN:VCALENDAR
VERSION:2.0
PRODID:-//christusgemeinden.de//NONSGML kigkonsult.se iCalcreator 2.41.92//
CALSCALE:GREGORIAN
METHOD:PUBLISH
UID:35343935-6239-4037-b761-313261626438
X-WR-TIMEZONE:Europe/Berlin
X-LIC-LOCATION:Europe/Berlin
BEGIN:VTIMEZONE
TZID:Europe/Berlin
BEGIN:DAYLIGHT
TZOFFSETFROM:+0100
TZOFFSETTO:+0200
TZNAME:CEST
DTSTART:19700329T020000
RRULE:FREQ=YEARLY;BYDAY=-1SU;BYMONTH=3
END:DAYLIGHT
BEGIN:STANDARD
TZOFFSETFROM:+0200
TZOFFSETTO:+0100
TZNAME:CET
DTSTART:19701025T030000
RRULE:FREQ=YEARLY;BYDAY=-1SU;BYMONTH=10
END:STANDARD
END:VTIMEZONE
BEGIN:VEVENT
UID:37376563-6561-4565-a137-363432386262
DTSTAMP:20260421T203934Z
DESCRIPTION:Stadtführung in Landau\, Anfahrt gemeinsam mit der Bahn.\n \n W
 eitere Termine:\n Mi. 20.05.2026\, ganztägig\n Mi. 24.06.2026\, ganztägig
 \n Mi. 15.07.2026\, ganztägig\n Mi. 12.08.2026\, 12./19.08.2026\n Mi. 16.0
 9.2026\, ganztägig\n Mi. 07.10.2026\, 07./14.10.2026\n Mi. 11.11.2026\, ga
 nztägig\n Mi. 09.12.2026\, 18:00 Uhr\n \n Flyer-58Plus-2026.pdf [131.5 kB]
  Quelle: aw\n \n Veranstaltungsort:\n Information über Ansprechpartner:in
 \n \n Veranstalter:\n 58Plus
DTSTART;VALUE=DATE:20260422
DTEND;VALUE=DATE:20260423
LOCATION:Information über Ansprechpartner:in
SUMMARY:Projekt 58plus der Christusgemeinde
X-ALT-DESC;FMTTYPE=text/html:Stadtführung in Landau\, Anfahrt gemeinsam mit
  der Bahn.<br /><br />Weitere Termine:<br />Mi. 20.05.2026\, ganztägig<br 
 />Mi. 24.06.2026\, ganztägig<br />Mi. 15.07.2026\, ganztägig<br />Mi. 12.0
 8.2026\, 12./19.08.2026<br />Mi. 16.09.2026\, ganztägig<br />Mi. 07.10.202
 6\, 07./14.10.2026<br />Mi. 11.11.2026\, ganztägig<br />Mi. 09.12.2026\, 1
 8:00 Uhr<br /><br />Flyer-58Plus-2026.pdf [131.5 kB]\n Quelle: aw<br /><br
  />Veranstaltungsort: <br />Information über Ansprechpartner:in<br /><br /
 >Veranstalter: <br />58Plus
END:VEVENT
END:VCALENDAR
