BEGIN:VCALENDAR
VERSION:2.0
PRODID:-//christusgemeinden.de//NONSGML kigkonsult.se iCalcreator 2.41.92//
CALSCALE:GREGORIAN
METHOD:PUBLISH
UID:39393463-3132-4334-b936-396633613161
X-WR-TIMEZONE:Europe/Berlin
X-LIC-LOCATION:Europe/Berlin
BEGIN:VTIMEZONE
TZID:Europe/Berlin
BEGIN:DAYLIGHT
TZOFFSETFROM:+0100
TZOFFSETTO:+0200
TZNAME:CEST
DTSTART:19700329T020000
RRULE:FREQ=YEARLY;BYDAY=-1SU;BYMONTH=3
END:DAYLIGHT
BEGIN:STANDARD
TZOFFSETFROM:+0200
TZOFFSETTO:+0100
TZNAME:CET
DTSTART:19701025T030000
RRULE:FREQ=YEARLY;BYDAY=-1SU;BYMONTH=10
END:STANDARD
END:VTIMEZONE
BEGIN:VEVENT
UID:61623737-3439-4136-b863-353665643430
DTSTAMP:20260421T191746Z
DESCRIPTION:Weitere Termine:\n Fr. 15.05.2026\, 10:00 Uhr\n \n Veranstaltun
 gsort:\n Gustav-Adolf-Kirche\n Bruchsaler Straße 63\n Bruchsal-Untergromba
 ch\n \n Veranstalter:\n Christusgemeinde Unter- und Obergrombach
DTSTART;TZID=Europe/Berlin:20260619T100000
DTEND;TZID=Europe/Berlin:20260619T113000
LOCATION:Gustav-Adolf-Kirche\n - Bruchsaler Straße 63\n - Bruchsal-Untergro
 mbach
SUMMARY:Bibelgespräch am Morgen
X-ALT-DESC;FMTTYPE=text/html:Weitere Termine:<br />Fr. 15.05.2026\, 10:00 U
 hr<br /><br />Veranstaltungsort: <br />Gustav-Adolf-Kirche<br />Bruchsaler
  Straße 63<br />Bruchsal-Untergrombach<br /><br />Veranstalter: <br />Chri
 stusgemeinde Unter- und Obergrombach
END:VEVENT
END:VCALENDAR
