BEGIN:VCALENDAR
VERSION:2.0
PRODID:-//christusgemeinden.de//NONSGML kigkonsult.se iCalcreator 2.41.92//
CALSCALE:GREGORIAN
METHOD:PUBLISH
UID:64356330-6133-4466-a237-383465336665
X-WR-TIMEZONE:Europe/Berlin
X-LIC-LOCATION:Europe/Berlin
BEGIN:VTIMEZONE
TZID:Europe/Berlin
BEGIN:DAYLIGHT
TZOFFSETFROM:+0100
TZOFFSETTO:+0200
TZNAME:CEST
DTSTART:19700329T020000
RRULE:FREQ=YEARLY;BYDAY=-1SU;BYMONTH=3
END:DAYLIGHT
BEGIN:STANDARD
TZOFFSETFROM:+0200
TZOFFSETTO:+0100
TZNAME:CET
DTSTART:19701025T030000
RRULE:FREQ=YEARLY;BYDAY=-1SU;BYMONTH=10
END:STANDARD
END:VTIMEZONE
BEGIN:VEVENT
UID:33373064-6139-4062-a338-353030333431
DTSTAMP:20260421T153526Z
DESCRIPTION:Bibelgespräch am Morgen\n \n Leitung: Kerstin Brendelberger\n 
 \n Weitere Termine:\n Fr. 19.06.2026\, 10:00 Uhr\n \n Veranstaltungsort:\n
  Gustav-Adolf-Kirche\n Giebelzimmer\n Bruchsaler Straße 63\n 76646 Bruchsa
 l-Untergrombach\n \n Veranstalter:\n Christusgemeinde Unter- und Obergromb
 ach\n Joß-Fritz-Straße 30a\n 76646 Bruchsal-Untergrombach\n Telefon: +49 7
 257 924 289\n Telefax: +49 7257 924 330\n https://christusgemeinden.de/
DTSTART;TZID=Europe/Berlin:20260515T100000
DTEND;TZID=Europe/Berlin:20260515T113000
LOCATION:Gustav-Adolf-Kirche\n - Giebelzimmer\n - Bruchsaler Straße 63\n - 
 76646 Bruchsal-Untergrombach
SUMMARY:Bibelgespräch am Morgen
X-ALT-DESC;FMTTYPE=text/html:Bibelgespräch am Morgen<br /><br />Leitung: Ke
 rstin Brendelberger<br /><br />Weitere Termine:<br />Fr. 19.06.2026\, 10:0
 0 Uhr<br /><br />Veranstaltungsort: <br />Gustav-Adolf-Kirche<br />Giebelz
 immer<br />Bruchsaler Straße 63<br />76646 Bruchsal-Untergrombach<br /><br
  />Veranstalter: <br />Christusgemeinde Unter- und Obergrombach<br />Joß-F
 ritz-Straße 30a<br />76646 Bruchsal-Untergrombach<br />Telefon: +49 7257 9
 24 289<br />Telefax: +49 7257 924 330<br />https://christusgemeinden.de/
END:VEVENT
END:VCALENDAR
