BEGIN:VCALENDAR
VERSION:2.0
PRODID:-//christusgemeinden.de//NONSGML kigkonsult.se iCalcreator 2.41.92//
CALSCALE:GREGORIAN
METHOD:PUBLISH
UID:38303437-6136-4439-a537-356235646533
X-WR-TIMEZONE:Europe/Berlin
X-LIC-LOCATION:Europe/Berlin
BEGIN:VTIMEZONE
TZID:Europe/Berlin
BEGIN:DAYLIGHT
TZOFFSETFROM:+0100
TZOFFSETTO:+0200
TZNAME:CEST
DTSTART:19700329T020000
RRULE:FREQ=YEARLY;BYDAY=-1SU;BYMONTH=3
END:DAYLIGHT
BEGIN:STANDARD
TZOFFSETFROM:+0200
TZOFFSETTO:+0100
TZNAME:CET
DTSTART:19701025T030000
RRULE:FREQ=YEARLY;BYDAY=-1SU;BYMONTH=10
END:STANDARD
END:VTIMEZONE
BEGIN:VEVENT
UID:34363633-3033-4632-b564-613335393836
DTSTAMP:20260421T154450Z
DESCRIPTION:Gottesdienste\n \n Weitere Termine:\n So. 03.05.2026\, 10:30 Uh
 r\n \n Veranstaltungsort:\n Pfarrei St. Martin Obergrombach\n Helmsheimer 
 Straße 1\n 76646 Bruchsal-Obergrombach\n \n Veranstalter:\n Ökumene
DTSTART;TZID=Europe/Berlin:20260525T103000
DTEND;TZID=Europe/Berlin:20260525T113000
LOCATION:Pfarrei St. Martin Obergrombach\n - Helmsheimer Straße 1\n - 76646
  Bruchsal-Obergrombach
SUMMARY:ökumenischer Gottesdienst zu Pfingsten
X-ALT-DESC;FMTTYPE=text/html:Gottesdienste<br /><br />Weitere Termine:<br /
 >So. 03.05.2026\, 10:30 Uhr<br /><br />Veranstaltungsort: <br />Pfarrei St
 . Martin Obergrombach<br />Helmsheimer Straße 1<br />76646 Bruchsal-Obergr
 ombach<br /><br />Veranstalter: <br />Ökumene
END:VEVENT
END:VCALENDAR
