BEGIN:VCALENDAR
VERSION:2.0
PRODID:-//christusgemeinden.de//NONSGML kigkonsult.se iCalcreator 2.41.92//
CALSCALE:GREGORIAN
METHOD:PUBLISH
UID:66333534-6634-4265-b531-366466623938
X-WR-TIMEZONE:Europe/Berlin
X-LIC-LOCATION:Europe/Berlin
BEGIN:VTIMEZONE
TZID:Europe/Berlin
BEGIN:DAYLIGHT
TZOFFSETFROM:+0100
TZOFFSETTO:+0200
TZNAME:CEST
DTSTART:19700329T020000
RRULE:FREQ=YEARLY;BYDAY=-1SU;BYMONTH=3
END:DAYLIGHT
BEGIN:STANDARD
TZOFFSETFROM:+0200
TZOFFSETTO:+0100
TZNAME:CET
DTSTART:19701025T030000
RRULE:FREQ=YEARLY;BYDAY=-1SU;BYMONTH=10
END:STANDARD
END:VTIMEZONE
BEGIN:VEVENT
UID:63346138-6630-4339-b634-666131633965
DTSTAMP:20260424T121110Z
DESCRIPTION:im Freien\n \n Kirchenregion Bruchsal\n \n Weitere Termine:\n F
 r. 24.04.2026\, 19:00 Uhr\n Fr. 08.05.2026\, 18:30 Uhr\n \n Veranstaltungs
 ort:\n Paul-Gerhardt-Gemeinde Bruchsal\n Paul-Gerhardt-Straße 29\n 76646 B
 ruchsal\n \n Veranstalter:\n Kirchen in der Region Bruchsal
DTSTART;TZID=Europe/Berlin:20260514T103000
DTEND;TZID=Europe/Berlin:20260514T113000
LOCATION:Paul-Gerhardt-Gemeinde Bruchsal\n - Paul-Gerhardt-Straße 29\n - 76
 646 Bruchsal
SUMMARY:regionaler Gottesdienst zu Himmelfahrt
X-ALT-DESC;FMTTYPE=text/html:im Freien<br /><br />Kirchenregion Bruchsal<br
  /><br />Weitere Termine:<br />Fr. 24.04.2026\, 19:00 Uhr<br />Fr. 08.05.2
 026\, 18:30 Uhr<br /><br />Veranstaltungsort: <br />Paul-Gerhardt-Gemeinde
  Bruchsal<br />Paul-Gerhardt-Straße 29<br />76646 Bruchsal<br /><br />Vera
 nstalter: <br />Kirchen in der Region Bruchsal
END:VEVENT
END:VCALENDAR
