BEGIN:VCALENDAR
VERSION:2.0
PRODID:-//christusgemeinden.de//NONSGML kigkonsult.se iCalcreator 2.41.92//
CALSCALE:GREGORIAN
METHOD:PUBLISH
UID:38303733-6438-4264-a637-343730353638
X-WR-TIMEZONE:Europe/Berlin
X-LIC-LOCATION:Europe/Berlin
BEGIN:VTIMEZONE
TZID:Europe/Berlin
BEGIN:DAYLIGHT
TZOFFSETFROM:+0100
TZOFFSETTO:+0200
TZNAME:CEST
DTSTART:19700329T020000
RRULE:FREQ=YEARLY;BYDAY=-1SU;BYMONTH=3
END:DAYLIGHT
BEGIN:STANDARD
TZOFFSETFROM:+0200
TZOFFSETTO:+0100
TZNAME:CET
DTSTART:19701025T030000
RRULE:FREQ=YEARLY;BYDAY=-1SU;BYMONTH=10
END:STANDARD
END:VTIMEZONE
BEGIN:VEVENT
UID:64623833-3661-4537-b666-393831643734
DTSTAMP:20260421T172644Z
DESCRIPTION:Gottesdienste\n \n Liturgie: Pfarrerin Andrea Knauber\n Lesunge
 n:\n Orgel:\n \n Weitere Termine:\n Mo. 25.05.2026\, 10:30 Uhr\n \n Verans
 taltungsort:\n Pfarrei St. Martin Obergrombach\n Helmsheimer Straße 1\n 76
 646 Bruchsal-Obergrombach\n \n Veranstalter:\n Ökumene
DTSTART;TZID=Europe/Berlin:20260503T103000
DTEND;TZID=Europe/Berlin:20260503T113000
LOCATION:Pfarrei St. Martin Obergrombach\n - Helmsheimer Straße 1\n - 76646
  Bruchsal-Obergrombach
SUMMARY:Festgottesdienst zur Konfirmation der Christusgemeinde
X-ALT-DESC;FMTTYPE=text/html:Gottesdienste<br /><br />Liturgie: Pfarrerin A
 ndrea Knauber<br />Lesungen: <br />Orgel: <br /><br />Weitere Termine:<br 
 />Mo. 25.05.2026\, 10:30 Uhr<br /><br />Veranstaltungsort: <br />Pfarrei S
 t. Martin Obergrombach<br />Helmsheimer Straße 1<br />76646 Bruchsal-Oberg
 rombach<br /><br />Veranstalter: <br />Ökumene
END:VEVENT
END:VCALENDAR
