BEGIN:VCALENDAR
VERSION:2.0
PRODID:-//christusgemeinden.de//NONSGML kigkonsult.se iCalcreator 2.41.92//
CALSCALE:GREGORIAN
METHOD:PUBLISH
UID:37636535-6333-4361-b031-346634343331
X-WR-TIMEZONE:Europe/Berlin
X-LIC-LOCATION:Europe/Berlin
BEGIN:VTIMEZONE
TZID:Europe/Berlin
BEGIN:DAYLIGHT
TZOFFSETFROM:+0100
TZOFFSETTO:+0200
TZNAME:CEST
DTSTART:19700329T020000
RRULE:FREQ=YEARLY;BYDAY=-1SU;BYMONTH=3
END:DAYLIGHT
BEGIN:STANDARD
TZOFFSETFROM:+0200
TZOFFSETTO:+0100
TZNAME:CET
DTSTART:19701025T030000
RRULE:FREQ=YEARLY;BYDAY=-1SU;BYMONTH=10
END:STANDARD
END:VTIMEZONE
BEGIN:VEVENT
UID:66663632-6662-4238-b133-643465383839
DTSTAMP:20260421T171836Z
DESCRIPTION:Ökumenisches Friedensgebet\n \n Weitere Termine:\n Di. 28.04.20
 26\, 19:00 Uhr\n Di. 26.05.2026\, 19:00 Uhr\n \n Veranstaltungsort:\n Gust
 av-Adolf-Kirche\n Kirchenraum\n Bruchsaler Straße 63\n 76646 Bruchsal-Unte
 rgrombach\n \n Veranstalter:\n Ökumene
DTSTART;TZID=Europe/Berlin:20260623T190000
DTEND;TZID=Europe/Berlin:20260623T200000
LOCATION:Gustav-Adolf-Kirche\n - Kirchenraum\n - Bruchsaler Straße 63\n - 7
 6646 Bruchsal-Untergrombach
SUMMARY:Ökumenisches Friedensgebet
X-ALT-DESC;FMTTYPE=text/html:Ökumenisches Friedensgebet<br /><br />Weitere 
 Termine:<br />Di. 28.04.2026\, 19:00 Uhr<br />Di. 26.05.2026\, 19:00 Uhr<b
 r /><br />Veranstaltungsort: <br />Gustav-Adolf-Kirche<br />Kirchenraum<br
  />Bruchsaler Straße 63<br />76646 Bruchsal-Untergrombach<br /><br />Veran
 stalter: <br />Ökumene
END:VEVENT
END:VCALENDAR
