BEGIN:VCALENDAR
VERSION:2.0
PRODID:-//christusgemeinden.de//NONSGML kigkonsult.se iCalcreator 2.41.92//
CALSCALE:GREGORIAN
METHOD:PUBLISH
UID:31343536-6265-4335-b763-383263633635
X-WR-TIMEZONE:Europe/Berlin
X-LIC-LOCATION:Europe/Berlin
BEGIN:VTIMEZONE
TZID:Europe/Berlin
BEGIN:DAYLIGHT
TZOFFSETFROM:+0100
TZOFFSETTO:+0200
TZNAME:CEST
DTSTART:19700329T020000
RRULE:FREQ=YEARLY;BYDAY=-1SU;BYMONTH=3
END:DAYLIGHT
BEGIN:STANDARD
TZOFFSETFROM:+0200
TZOFFSETTO:+0100
TZNAME:CET
DTSTART:19701025T030000
RRULE:FREQ=YEARLY;BYDAY=-1SU;BYMONTH=10
END:STANDARD
END:VTIMEZONE
BEGIN:VEVENT
UID:66343166-6432-4039-b531-393039663565
DTSTAMP:20260421T171912Z
DESCRIPTION:Weitere Termine:\n Di. 28.04.2026\, 19:00 Uhr\n Di. 23.06.2026\
 , 19:00 Uhr\n \n Veranstaltungsort:\n Gustav-Adolf-Kirche\n Bruchsaler Str
 aße 63\n Bruchsal-Untergrombach\n \n Veranstalter:\n Ökumene
DTSTART;TZID=Europe/Berlin:20260526T190000
DTEND;TZID=Europe/Berlin:20260526T200000
LOCATION:Gustav-Adolf-Kirche\n - Bruchsaler Straße 63\n - Bruchsal-Untergro
 mbach
SUMMARY:Ökumenisches Friedensgebet
X-ALT-DESC;FMTTYPE=text/html:Weitere Termine:<br />Di. 28.04.2026\, 19:00 U
 hr<br />Di. 23.06.2026\, 19:00 Uhr<br /><br />Veranstaltungsort: <br />Gus
 tav-Adolf-Kirche<br />Bruchsaler Straße 63<br />Bruchsal-Untergrombach<br 
 /><br />Veranstalter: <br />Ökumene
END:VEVENT
END:VCALENDAR
