BEGIN:VCALENDAR
VERSION:2.0
PRODID:-//christusgemeinden.de//NONSGML kigkonsult.se iCalcreator 2.41.92//
CALSCALE:GREGORIAN
METHOD:PUBLISH
UID:34663335-3232-4162-a438-623962343162
X-WR-TIMEZONE:Europe/Berlin
X-LIC-LOCATION:Europe/Berlin
BEGIN:VTIMEZONE
TZID:Europe/Berlin
BEGIN:DAYLIGHT
TZOFFSETFROM:+0100
TZOFFSETTO:+0200
TZNAME:CEST
DTSTART:19700329T020000
RRULE:FREQ=YEARLY;BYDAY=-1SU;BYMONTH=3
END:DAYLIGHT
BEGIN:STANDARD
TZOFFSETFROM:+0200
TZOFFSETTO:+0100
TZNAME:CET
DTSTART:19701025T030000
RRULE:FREQ=YEARLY;BYDAY=-1SU;BYMONTH=10
END:STANDARD
END:VTIMEZONE
BEGIN:VEVENT
UID:39313762-6666-4635-b434-646361653730
DTSTAMP:20260421T140033Z
DESCRIPTION:Klimaschutz hat viele Facetten: technische\, finanzielle\, ökol
 ogische und auch theologische. Mit dieser Fortbildungsreihe rückt in jedem
  Monat ein anderer Aspekt kirchlichen Klimaschutzes in den Mittelpunkt. Fa
 chkundige Referentinnen und Referenten präsentieren Hintergrundwissen\, ge
 ben Tipps zur konkreten Umsetzung in Kirchengemeinden und stehen für Frage
 n zur Verfügung. Hier geht es zur Anmeldung\n \n Veranstaltungsort:\n Onli
 ne\n \n Veranstalter:\n Büro für Umwelt und Energie (BUE)\n Anja Luft\n Te
 lefon: 0721/9175-807\n http://www.ekiba.de/bue
DTSTART;TZID=Europe/Berlin:20260506T183000
DTEND;TZID=Europe/Berlin:20260506T200000
LOCATION:Online
SUMMARY:Sanieren und heizen in nicht-sakralen Gebäuden
X-ALT-DESC;FMTTYPE=text/html:Klimaschutz hat viele Facetten: technische\, f
 inanzielle\, ökologische und auch theologische. Mit dieser Fortbildungsrei
 he rückt in jedem Monat ein anderer Aspekt kirchlichen Klimaschutzes in de
 n Mittelpunkt. Fachkundige Referentinnen und Referenten präsentieren Hinte
 rgrundwissen\, geben Tipps zur konkreten Umsetzung in Kirchengemeinden und
  stehen für Fragen zur Verfügung.\n Hier geht es zur Anmeldung<br /><br />
 Veranstaltungsort: <br />Online<br /><br />Veranstalter: <br />Büro für Um
 welt und Energie (BUE)<br />Anja Luft<br />Telefon: 0721/9175-807<br />htt
 p://www.ekiba.de/bue
END:VEVENT
END:VCALENDAR
