BEGIN:VCALENDAR
VERSION:2.0
PRODID:-//christusgemeinden.de//NONSGML kigkonsult.se iCalcreator 2.41.92//
CALSCALE:GREGORIAN
METHOD:PUBLISH
UID:64393338-6337-4236-b135-653534393332
X-WR-TIMEZONE:Europe/Berlin
X-LIC-LOCATION:Europe/Berlin
BEGIN:VTIMEZONE
TZID:Europe/Berlin
BEGIN:DAYLIGHT
TZOFFSETFROM:+0100
TZOFFSETTO:+0200
TZNAME:CEST
DTSTART:19700329T020000
RRULE:FREQ=YEARLY;BYDAY=-1SU;BYMONTH=3
END:DAYLIGHT
BEGIN:STANDARD
TZOFFSETFROM:+0200
TZOFFSETTO:+0100
TZNAME:CET
DTSTART:19701025T030000
RRULE:FREQ=YEARLY;BYDAY=-1SU;BYMONTH=10
END:STANDARD
END:VTIMEZONE
BEGIN:VEVENT
UID:38376230-6162-4530-b764-323364373338
DTSTAMP:20260422T032112Z
DESCRIPTION:Die Finanzierung von Sanierungs- oder Neubauprojekten für Orgel
 n\, Kirchturmglocken und Glockenstühle stellt viele Gemeinden vor eine fin
 anzielle Herausforderung. Der Schlüssel dazu könnte im gezielten Antrags-F
 undraising liegen. Lernen Sie in unserem Workshop\, wie Sie die erforderli
 chen Mittel erfolgreich akquirieren können. Zur Anmeldung\n \n Veranstaltu
 ngsort:\n online\n \n Veranstalter:\n Servicestelle Fundraising und Bezieh
 ungspflege\n Blumenstraße 1-7\n 76133 Karlsruhe\n Telefon: 0721 91 75 811
 \n Telefax: 0721 91 75 25 820\n http://www.ekiba.de/fundraising
DTSTART;TZID=Europe/Berlin:20261026T190000
DTEND;TZID=Europe/Berlin:20261026T203000
LOCATION:online
SUMMARY:Workshop „Fundraising für Orgel- und Glockenprojekte“
X-ALT-DESC;FMTTYPE=text/html:Die Finanzierung von Sanierungs- oder Neubaupr
 ojekten für Orgeln\, Kirchturmglocken und Glockenstühle stellt viele Gemei
 nden vor eine finanzielle Herausforderung. Der Schlüssel dazu könnte im ge
 zielten Antrags-Fundraising liegen. Lernen Sie in unserem Workshop\, wie S
 ie die erforderlichen Mittel erfolgreich akquirieren können.\n \n Zur Anme
 ldung<br /><br />Veranstaltungsort: <br />online<br /><br />Veranstalter: 
 <br />Servicestelle Fundraising und Beziehungspflege<br />Blumenstraße 1-7
 <br />76133 Karlsruhe<br />Telefon: 0721 91 75 811<br />Telefax: 0721 91 7
 5 25 820<br />http://www.ekiba.de/fundraising
END:VEVENT
END:VCALENDAR
