BEGIN:VCALENDAR
VERSION:2.0
PRODID:-//christusgemeinden.de//NONSGML kigkonsult.se iCalcreator 2.41.92//
CALSCALE:GREGORIAN
METHOD:PUBLISH
UID:63653732-3661-4861-b566-373430366635
X-WR-TIMEZONE:Europe/Berlin
X-LIC-LOCATION:Europe/Berlin
BEGIN:VTIMEZONE
TZID:Europe/Berlin
BEGIN:DAYLIGHT
TZOFFSETFROM:+0100
TZOFFSETTO:+0200
TZNAME:CEST
DTSTART:19700329T020000
RRULE:FREQ=YEARLY;BYDAY=-1SU;BYMONTH=3
END:DAYLIGHT
BEGIN:STANDARD
TZOFFSETFROM:+0200
TZOFFSETTO:+0100
TZNAME:CET
DTSTART:19701025T030000
RRULE:FREQ=YEARLY;BYDAY=-1SU;BYMONTH=10
END:STANDARD
END:VTIMEZONE
BEGIN:VEVENT
UID:31386465-3531-4762-b839-623330353731
DTSTAMP:20260421T123427Z
DESCRIPTION:Konfirmandenunterricht\n \n Weitere Termine:\n Mi. 22.04.2026\,
  16:30 Uhr\n \n Veranstaltungsort:\n Gustav-Adolf-Kirche\n Bruchsaler Stra
 ße 63\n 76646 Bruchsal-Untergrombach\n \n Veranstalter:\n Christusgemeinde
  Unter- und Obergrombach\n Joß-Fritz-Straße 30a\n 76646 Bruchsal-Untergrom
 bach\n Telefon: +49 7257 924 289\n Telefax: +49 7257 924 330\n https://chr
 istusgemeinden.de/
DTSTART;TZID=Europe/Berlin:20260429T163000
DTEND;TZID=Europe/Berlin:20260429T173000
LOCATION:Gustav-Adolf-Kirche\n - Bruchsaler Straße 63\n - 76646 Bruchsal-Un
 tergrombach
SUMMARY:Konfirmandenunterricht
X-ALT-DESC;FMTTYPE=text/html:Konfirmandenunterricht<br /><br />Weitere Term
 ine:<br />Mi. 22.04.2026\, 16:30 Uhr<br /><br />Veranstaltungsort: <br />G
 ustav-Adolf-Kirche<br />Bruchsaler Straße 63<br />76646 Bruchsal-Untergrom
 bach<br /><br />Veranstalter: <br />Christusgemeinde Unter- und Obergromba
 ch<br />Joß-Fritz-Straße 30a<br />76646 Bruchsal-Untergrombach<br />Telefo
 n: +49 7257 924 289<br />Telefax: +49 7257 924 330<br />https://christusge
 meinden.de/
END:VEVENT
END:VCALENDAR
