BEGIN:VCALENDAR
VERSION:2.0
PRODID:-//christusgemeinden.de//NONSGML kigkonsult.se iCalcreator 2.41.92//
CALSCALE:GREGORIAN
METHOD:PUBLISH
UID:65646562-3162-4537-a361-323733383831
X-WR-TIMEZONE:Europe/Berlin
X-LIC-LOCATION:Europe/Berlin
BEGIN:VTIMEZONE
TZID:Europe/Berlin
BEGIN:DAYLIGHT
TZOFFSETFROM:+0100
TZOFFSETTO:+0200
TZNAME:CEST
DTSTART:19700329T020000
RRULE:FREQ=YEARLY;BYDAY=-1SU;BYMONTH=3
END:DAYLIGHT
BEGIN:STANDARD
TZOFFSETFROM:+0200
TZOFFSETTO:+0100
TZNAME:CET
DTSTART:19701025T030000
RRULE:FREQ=YEARLY;BYDAY=-1SU;BYMONTH=10
END:STANDARD
END:VTIMEZONE
BEGIN:VEVENT
UID:62383737-3763-4763-b066-326635366365
DTSTAMP:20260422T013309Z
DESCRIPTION:Konfirmandenunterricht\n \n Weitere Termine:\n Mi. 29.04.2026\,
  16:30 Uhr\n \n Veranstaltungsort:\n Paul-Gerhardt-Gemeinde Bruchsal\n Pau
 l-Gerhardt-Straße 29\n 76646 Bruchsal\n \n Veranstalter:\n Christusgemeind
 e Unter- und Obergrombach\n Joß-Fritz-Straße 30a\n 76646 Bruchsal-Untergro
 mbach\n Telefon: +49 7257 924 289\n Telefax: +49 7257 924 330\n https://ch
 ristusgemeinden.de/
DTSTART;TZID=Europe/Berlin:20260422T163000
DTEND;TZID=Europe/Berlin:20260422T173000
LOCATION:Paul-Gerhardt-Gemeinde Bruchsal\n - Paul-Gerhardt-Straße 29\n - 76
 646 Bruchsal
SUMMARY:Konfirmandenunterricht
X-ALT-DESC;FMTTYPE=text/html:Konfirmandenunterricht<br /><br />Weitere Term
 ine:<br />Mi. 29.04.2026\, 16:30 Uhr<br /><br />Veranstaltungsort: <br />P
 aul-Gerhardt-Gemeinde Bruchsal<br />Paul-Gerhardt-Straße 29<br />76646 Bru
 chsal<br /><br />Veranstalter: <br />Christusgemeinde Unter- und Obergromb
 ach<br />Joß-Fritz-Straße 30a<br />76646 Bruchsal-Untergrombach<br />Telef
 on: +49 7257 924 289<br />Telefax: +49 7257 924 330<br />https://christusg
 emeinden.de/
END:VEVENT
END:VCALENDAR
