BEGIN:VCALENDAR
VERSION:2.0
PRODID:-//christusgemeinden.de//NONSGML kigkonsult.se iCalcreator 2.41.92//
CALSCALE:GREGORIAN
METHOD:PUBLISH
UID:39613138-3331-4363-b665-363632336665
X-WR-TIMEZONE:Europe/Berlin
X-LIC-LOCATION:Europe/Berlin
BEGIN:VTIMEZONE
TZID:Europe/Berlin
BEGIN:DAYLIGHT
TZOFFSETFROM:+0100
TZOFFSETTO:+0200
TZNAME:CEST
DTSTART:19700329T020000
RRULE:FREQ=YEARLY;BYDAY=-1SU;BYMONTH=3
END:DAYLIGHT
BEGIN:STANDARD
TZOFFSETFROM:+0200
TZOFFSETTO:+0100
TZNAME:CET
DTSTART:19701025T030000
RRULE:FREQ=YEARLY;BYDAY=-1SU;BYMONTH=10
END:STANDARD
END:VTIMEZONE
BEGIN:VEVENT
UID:37363730-3535-4232-b964-393339336630
DTSTAMP:20260421T185718Z
DESCRIPTION:interne Veranstaltungen\n \n Leitung: Pfarrerin Andrea Knauber
 \n \n Weitere Termine:\n Di. 21.04.2026\, 19:30 Uhr\n Di. 19.05.2026\, 19:
 30 Uhr\n Mi. 17.06.2026\, 19:30 Uhr\n Di. 14.07.2026\, 19:30 Uhr\n Di. 20.
 10.2026\, 19:30 Uhr\n Di. 10.11.2026\, 19:30 Uhr\n Di. 08.12.2026\, 19:30 
 Uhr\n \n Veranstaltungsort:\n Gustav-Adolf-Kirche\n Giebelzimmer\n Bruchsa
 ler Straße 63\n 76646 Bruchsal-Untergrombach\n \n Veranstalter:\n Christus
 gemeinde Unter- und Obergrombach\n Joß-Fritz-Straße 30a\n 76646 Bruchsal-U
 ntergrombach\n Telefon: +49 7257 924 289\n Telefax: +49 7257 924 330\n htt
 ps://christusgemeinden.de/
DTSTART;TZID=Europe/Berlin:20260915T193000
DTEND;TZID=Europe/Berlin:20260915T223000
LOCATION:Gustav-Adolf-Kirche\n - Giebelzimmer\n - Bruchsaler Straße 63\n - 
 76646 Bruchsal-Untergrombach
SUMMARY:Sitzung des Ältestenkreises
X-ALT-DESC;FMTTYPE=text/html:interne Veranstaltungen<br /><br />Leitung: Pf
 arrerin Andrea Knauber<br /><br />Weitere Termine:<br />Di. 21.04.2026\, 1
 9:30 Uhr<br />Di. 19.05.2026\, 19:30 Uhr<br />Mi. 17.06.2026\, 19:30 Uhr<b
 r />Di. 14.07.2026\, 19:30 Uhr<br />Di. 20.10.2026\, 19:30 Uhr<br />Di. 10
 .11.2026\, 19:30 Uhr<br />Di. 08.12.2026\, 19:30 Uhr<br /><br />Veranstalt
 ungsort: <br />Gustav-Adolf-Kirche<br />Giebelzimmer<br />Bruchsaler Straß
 e 63<br />76646 Bruchsal-Untergrombach<br /><br />Veranstalter: <br />Chri
 stusgemeinde Unter- und Obergrombach<br />Joß-Fritz-Straße 30a<br />76646 
 Bruchsal-Untergrombach<br />Telefon: +49 7257 924 289<br />Telefax: +49 72
 57 924 330<br />https://christusgemeinden.de/
END:VEVENT
END:VCALENDAR
