BEGIN:VCALENDAR
VERSION:2.0
PRODID:-//christusgemeinden.de//NONSGML kigkonsult.se iCalcreator 2.41.92//
CALSCALE:GREGORIAN
METHOD:PUBLISH
UID:37323963-6237-4135-b730-656433363630
X-WR-TIMEZONE:Europe/Berlin
X-LIC-LOCATION:Europe/Berlin
BEGIN:VTIMEZONE
TZID:Europe/Berlin
BEGIN:DAYLIGHT
TZOFFSETFROM:+0100
TZOFFSETTO:+0200
TZNAME:CEST
DTSTART:19700329T020000
RRULE:FREQ=YEARLY;BYDAY=-1SU;BYMONTH=3
END:DAYLIGHT
BEGIN:STANDARD
TZOFFSETFROM:+0200
TZOFFSETTO:+0100
TZNAME:CET
DTSTART:19701025T030000
RRULE:FREQ=YEARLY;BYDAY=-1SU;BYMONTH=10
END:STANDARD
END:VTIMEZONE
BEGIN:VEVENT
UID:35376530-3334-4937-b932-393966663636
DTSTAMP:20260422T100214Z
DESCRIPTION:Wir feiern das Abendmahl\n \n Gottesdienste\n \n Liturgie: Pfar
 rerin Andrea Knauber\n Lesungen:\n Orgel: Natalia Hock\n \n Weitere Termin
 e:\n So. 17.05.2026\, 19:00 Uhr\n So. 14.06.2026\, 10:30 Uhr\n So. 12.07.2
 026\, 19:00 Uhr\n So. 26.07.2026\, 10:30 Uhr\n So. 09.08.2026\, 10:30 Uhr
 \n So. 23.08.2026\, 09:00 Uhr\n So. 06.09.2026\, 09:00 Uhr\n So. 27.09.202
 6\, 10:30 Uhr\n So. 11.10.2026\, 09:00 Uhr\n So. 25.10.2026\, 10:30 Uhr\n 
 So. 08.11.2026\, 10:30 Uhr\n \n 2026-Abendlob.pdf [1.7 MB] Quelle: ak/ca\n
  \n Veranstaltungsort:\n Schlosskirche\n Kirchenraum\n Brunnenstraße\n 766
 46 Bruchsal-Obergrombach\n \n Veranstalter:\n Christusgemeinde Unter- und 
 Obergrombach\n Joß-Fritz-Straße 30a\n 76646 Bruchsal-Untergrombach\n Telef
 on: +49 7257 924 289\n Telefax: +49 7257 924 330\n https://christusgemeind
 en.de/
DTSTART;TZID=Europe/Berlin:20260628T190000
DTEND;TZID=Europe/Berlin:20260628T200000
LOCATION:Schlosskirche\n - Kirchenraum\n - Brunnenstraße\n - 76646 Bruchsal
 -Obergrombach
SUMMARY:Abendlob bei Kerzenschein
X-ALT-DESC;FMTTYPE=text/html:Wir feiern das Abendmahl<br /><br />Gottesdien
 ste<br /><br />Liturgie: Pfarrerin Andrea Knauber<br />Lesungen: <br />Org
 el: Natalia Hock<br /><br />Weitere Termine:<br />So. 17.05.2026\, 19:00 U
 hr<br />So. 14.06.2026\, 10:30 Uhr<br />So. 12.07.2026\, 19:00 Uhr<br />So
 . 26.07.2026\, 10:30 Uhr<br />So. 09.08.2026\, 10:30 Uhr<br />So. 23.08.20
 26\, 09:00 Uhr<br />So. 06.09.2026\, 09:00 Uhr<br />So. 27.09.2026\, 10:30
  Uhr<br />So. 11.10.2026\, 09:00 Uhr<br />So. 25.10.2026\, 10:30 Uhr<br />
 So. 08.11.2026\, 10:30 Uhr<br /><br />2026-Abendlob.pdf [1.7 MB]\n Quelle:
  ak/ca<br /><br />Veranstaltungsort: <br />Schlosskirche<br />Kirchenraum<
 br />Brunnenstraße<br />76646 Bruchsal-Obergrombach<br /><br />Veranstalte
 r: <br />Christusgemeinde Unter- und Obergrombach<br />Joß-Fritz-Straße 30
 a<br />76646 Bruchsal-Untergrombach<br />Telefon: +49 7257 924 289<br />Te
 lefax: +49 7257 924 330<br />https://christusgemeinden.de/
END:VEVENT
END:VCALENDAR
