BEGIN:VCALENDAR
VERSION:2.0
PRODID:-//christusgemeinden.de//NONSGML kigkonsult.se iCalcreator 2.41.92//
CALSCALE:GREGORIAN
METHOD:PUBLISH
UID:63633034-3266-4439-b363-303036343961
X-WR-TIMEZONE:Europe/Berlin
X-LIC-LOCATION:Europe/Berlin
BEGIN:VTIMEZONE
TZID:Europe/Berlin
BEGIN:DAYLIGHT
TZOFFSETFROM:+0100
TZOFFSETTO:+0200
TZNAME:CEST
DTSTART:19700329T020000
RRULE:FREQ=YEARLY;BYDAY=-1SU;BYMONTH=3
END:DAYLIGHT
BEGIN:STANDARD
TZOFFSETFROM:+0200
TZOFFSETTO:+0100
TZNAME:CET
DTSTART:19701025T030000
RRULE:FREQ=YEARLY;BYDAY=-1SU;BYMONTH=10
END:STANDARD
END:VTIMEZONE
BEGIN:VEVENT
UID:31656135-3062-4635-a230-363833353639
DTSTAMP:20260421T203829Z
DESCRIPTION:Gottesdienste\n \n Liturgie: Pfarrerin Andrea Knauber\n Lesunge
 n:\n Orgel: Natalia Hock\n \n Weitere Termine:\n So. 17.05.2026\, 19:00 Uh
 r\n So. 28.06.2026\, 19:00 Uhr\n So. 12.07.2026\, 19:00 Uhr\n So. 26.07.20
 26\, 10:30 Uhr\n So. 09.08.2026\, 10:30 Uhr\n So. 23.08.2026\, 09:00 Uhr\n
  So. 06.09.2026\, 09:00 Uhr\n So. 27.09.2026\, 10:30 Uhr\n So. 11.10.2026\
 , 09:00 Uhr\n So. 25.10.2026\, 10:30 Uhr\n So. 08.11.2026\, 10:30 Uhr\n \n
  Veranstaltungsort:\n Schlosskirche\n Kirchenraum\n Brunnenstraße\n 76646 
 Bruchsal-Obergrombach\n \n Veranstalter:\n Christusgemeinde Unter- und Obe
 rgrombach\n Joß-Fritz-Straße 30a\n 76646 Bruchsal-Untergrombach\n Telefon:
  +49 7257 924 289\n Telefax: +49 7257 924 330\n https://christusgemeinden.
 de/
DTSTART;TZID=Europe/Berlin:20260614T103000
DTEND;TZID=Europe/Berlin:20260614T113000
LOCATION:Schlosskirche\n - Kirchenraum\n - Brunnenstraße\n - 76646 Bruchsal
 -Obergrombach
SUMMARY:Gottesdienst
X-ALT-DESC;FMTTYPE=text/html:Gottesdienste<br /><br />Liturgie: Pfarrerin A
 ndrea Knauber<br />Lesungen: <br />Orgel: Natalia Hock<br /><br />Weitere 
 Termine:<br />So. 17.05.2026\, 19:00 Uhr<br />So. 28.06.2026\, 19:00 Uhr<b
 r />So. 12.07.2026\, 19:00 Uhr<br />So. 26.07.2026\, 10:30 Uhr<br />So. 09
 .08.2026\, 10:30 Uhr<br />So. 23.08.2026\, 09:00 Uhr<br />So. 06.09.2026\,
  09:00 Uhr<br />So. 27.09.2026\, 10:30 Uhr<br />So. 11.10.2026\, 09:00 Uhr
 <br />So. 25.10.2026\, 10:30 Uhr<br />So. 08.11.2026\, 10:30 Uhr<br /><br 
 />Veranstaltungsort: <br />Schlosskirche<br />Kirchenraum<br />Brunnenstra
 ße<br />76646 Bruchsal-Obergrombach<br /><br />Veranstalter: <br />Christu
 sgemeinde Unter- und Obergrombach<br />Joß-Fritz-Straße 30a<br />76646 Bru
 chsal-Untergrombach<br />Telefon: +49 7257 924 289<br />Telefax: +49 7257 
 924 330<br />https://christusgemeinden.de/
END:VEVENT
END:VCALENDAR
