BEGIN:VCALENDAR
VERSION:2.0
PRODID:-//christusgemeinden.de//NONSGML kigkonsult.se iCalcreator 2.41.92//
CALSCALE:GREGORIAN
METHOD:PUBLISH
UID:64643030-3637-4735-b362-636538353364
X-WR-TIMEZONE:Europe/Berlin
X-LIC-LOCATION:Europe/Berlin
BEGIN:VTIMEZONE
TZID:Europe/Berlin
BEGIN:DAYLIGHT
TZOFFSETFROM:+0100
TZOFFSETTO:+0200
TZNAME:CEST
DTSTART:19700329T020000
RRULE:FREQ=YEARLY;BYDAY=-1SU;BYMONTH=3
END:DAYLIGHT
BEGIN:STANDARD
TZOFFSETFROM:+0200
TZOFFSETTO:+0100
TZNAME:CET
DTSTART:19701025T030000
RRULE:FREQ=YEARLY;BYDAY=-1SU;BYMONTH=10
END:STANDARD
END:VTIMEZONE
BEGIN:VEVENT
UID:31666662-3537-4039-b465-343434386135
DTSTAMP:20260422T075348Z
DESCRIPTION:anschl. Gemeindefest\n \n Gottesdienste\n \n Liturgie: Pfarreri
 n Andrea Knauber\n Lesungen:\n Musikalische Begleitung:\n Orgel: Slobodan 
 Jovanovic\n \n Weitere Termine:\n So. 26.04.2026\, 10:30 Uhr\n So. 10.05.2
 026\, 10:30 Uhr\n So. 24.05.2026\, 10:30 Uhr\n So. 31.05.2026\, 09:00 Uhr
 \n Sa. 27.06.2026\, 15:00 Uhr\n So. 05.07.2026\, 10:30 Uhr\n So. 19.07.202
 6\, 09:00 Uhr\n So. 02.08.2026\, 09:00 Uhr\n So. 16.08.2026\, 10:30 Uhr\n 
 So. 30.08.2026\, 10:30 Uhr\n So. 13.09.2026\, 10:30 Uhr\n So. 20.09.2026\,
  10:30 Uhr\n So. 04.10.2026\, 10:30 Uhr\n So. 11.10.2026\, 10:30 Uhr\n So.
  01.11.2026\, 09:00 Uhr\n So. 22.11.2026\, 10:30 Uhr\n So. 20.12.2026\, 10
 :30 Uhr\n Do. 24.12.2026\, 15:30 Uhr\n \n Veranstaltungsort:\n Gustav-Adol
 f-Kirche\n Kirchenraum\n Bruchsaler Straße 63\n 76646 Bruchsal-Untergromba
 ch\n \n Veranstalter:\n Christusgemeinde Unter- und Obergrombach\n Joß-Fri
 tz-Straße 30a\n 76646 Bruchsal-Untergrombach\n Telefon: +49 7257 924 289\n
  Telefax: +49 7257 924 330\n https://christusgemeinden.de/
DTSTART;TZID=Europe/Berlin:20260621T103000
DTEND;TZID=Europe/Berlin:20260621T113000
LOCATION:Gustav-Adolf-Kirche\n - Kirchenraum\n - Bruchsaler Straße 63\n - 7
 6646 Bruchsal-Untergrombach
SUMMARY:Gottesdienst Familiy to Go mit KiTas
X-ALT-DESC;FMTTYPE=text/html:anschl. Gemeindefest<br /><br />Gottesdienste<
 br /><br />Liturgie: Pfarrerin Andrea Knauber<br />Lesungen: <br />Musikal
 ische Begleitung: <br />Orgel: Slobodan Jovanovic<br /><br />Weitere Termi
 ne:<br />So. 26.04.2026\, 10:30 Uhr<br />So. 10.05.2026\, 10:30 Uhr<br />S
 o. 24.05.2026\, 10:30 Uhr<br />So. 31.05.2026\, 09:00 Uhr<br />Sa. 27.06.2
 026\, 15:00 Uhr<br />So. 05.07.2026\, 10:30 Uhr<br />So. 19.07.2026\, 09:0
 0 Uhr<br />So. 02.08.2026\, 09:00 Uhr<br />So. 16.08.2026\, 10:30 Uhr<br /
 >So. 30.08.2026\, 10:30 Uhr<br />So. 13.09.2026\, 10:30 Uhr<br />So. 20.09
 .2026\, 10:30 Uhr<br />So. 04.10.2026\, 10:30 Uhr<br />So. 11.10.2026\, 10
 :30 Uhr<br />So. 01.11.2026\, 09:00 Uhr<br />So. 22.11.2026\, 10:30 Uhr<br
  />So. 20.12.2026\, 10:30 Uhr<br />Do. 24.12.2026\, 15:30 Uhr<br /><br />V
 eranstaltungsort: <br />Gustav-Adolf-Kirche<br />Kirchenraum<br />Bruchsal
 er Straße 63<br />76646 Bruchsal-Untergrombach<br /><br />Veranstalter: <b
 r />Christusgemeinde Unter- und Obergrombach<br />Joß-Fritz-Straße 30a<br 
 />76646 Bruchsal-Untergrombach<br />Telefon: +49 7257 924 289<br />Telefax
 : +49 7257 924 330<br />https://christusgemeinden.de/
END:VEVENT
END:VCALENDAR
