BEGIN:VCALENDAR
VERSION:2.0
PRODID:-//christusgemeinden.de//NONSGML kigkonsult.se iCalcreator 2.41.92//
CALSCALE:GREGORIAN
METHOD:PUBLISH
UID:62356365-3130-4362-a235-373237376466
X-WR-TIMEZONE:Europe/Berlin
X-LIC-LOCATION:Europe/Berlin
BEGIN:VTIMEZONE
TZID:Europe/Berlin
BEGIN:DAYLIGHT
TZOFFSETFROM:+0100
TZOFFSETTO:+0200
TZNAME:CEST
DTSTART:19700329T020000
RRULE:FREQ=YEARLY;BYDAY=-1SU;BYMONTH=3
END:DAYLIGHT
BEGIN:STANDARD
TZOFFSETFROM:+0200
TZOFFSETTO:+0100
TZNAME:CET
DTSTART:19701025T030000
RRULE:FREQ=YEARLY;BYDAY=-1SU;BYMONTH=10
END:STANDARD
END:VTIMEZONE
BEGIN:VEVENT
UID:36313734-6530-4131-a432-343238313163
DTSTAMP:20260421T202056Z
DESCRIPTION:Taufsonntag\n \n Gottesdienste\n \n Liturgie: Pfr. i.R. Wolfgan
 g Brjanzew\n Lesungen: Holger Jillich\n Orgel: Natalia Hock\n \n Weitere T
 ermine:\n So. 26.04.2026\, 10:30 Uhr\n So. 10.05.2026\, 10:30 Uhr\n So. 24
 .05.2026\, 10:30 Uhr\n So. 21.06.2026\, 10:30 Uhr\n Sa. 27.06.2026\, 15:00
  Uhr\n So. 05.07.2026\, 10:30 Uhr\n So. 19.07.2026\, 09:00 Uhr\n So. 02.08
 .2026\, 09:00 Uhr\n So. 16.08.2026\, 10:30 Uhr\n So. 30.08.2026\, 10:30 Uh
 r\n So. 13.09.2026\, 10:30 Uhr\n So. 20.09.2026\, 10:30 Uhr\n So. 04.10.20
 26\, 10:30 Uhr\n So. 11.10.2026\, 10:30 Uhr\n So. 01.11.2026\, 09:00 Uhr\n
  So. 22.11.2026\, 10:30 Uhr\n So. 20.12.2026\, 10:30 Uhr\n Do. 24.12.2026\
 , 15:30 Uhr\n \n Veranstaltungsort:\n Gustav-Adolf-Kirche\n Kirchenraum\n 
 Bruchsaler Straße 63\n 76646 Bruchsal-Untergrombach\n \n Veranstalter:\n C
 hristusgemeinde Unter- und Obergrombach\n Joß-Fritz-Straße 30a\n 76646 Bru
 chsal-Untergrombach\n Telefon: +49 7257 924 289\n Telefax: +49 7257 924 33
 0\n https://christusgemeinden.de/
DTSTART;TZID=Europe/Berlin:20260531T090000
DTEND;TZID=Europe/Berlin:20260531T100000
LOCATION:Gustav-Adolf-Kirche\n - Kirchenraum\n - Bruchsaler Straße 63\n - 7
 6646 Bruchsal-Untergrombach
SUMMARY:Gottesdienst
X-ALT-DESC;FMTTYPE=text/html:Taufsonntag<br /><br />Gottesdienste<br /><br 
 />Liturgie: Pfr. i.R. Wolfgang Brjanzew<br />Lesungen: Holger Jillich<br /
 >Orgel: Natalia Hock<br /><br />Weitere Termine:<br />So. 26.04.2026\, 10:
 30 Uhr<br />So. 10.05.2026\, 10:30 Uhr<br />So. 24.05.2026\, 10:30 Uhr<br 
 />So. 21.06.2026\, 10:30 Uhr<br />Sa. 27.06.2026\, 15:00 Uhr<br />So. 05.0
 7.2026\, 10:30 Uhr<br />So. 19.07.2026\, 09:00 Uhr<br />So. 02.08.2026\, 0
 9:00 Uhr<br />So. 16.08.2026\, 10:30 Uhr<br />So. 30.08.2026\, 10:30 Uhr<b
 r />So. 13.09.2026\, 10:30 Uhr<br />So. 20.09.2026\, 10:30 Uhr<br />So. 04
 .10.2026\, 10:30 Uhr<br />So. 11.10.2026\, 10:30 Uhr<br />So. 01.11.2026\,
  09:00 Uhr<br />So. 22.11.2026\, 10:30 Uhr<br />So. 20.12.2026\, 10:30 Uhr
 <br />Do. 24.12.2026\, 15:30 Uhr<br /><br />Veranstaltungsort: <br />Gusta
 v-Adolf-Kirche<br />Kirchenraum<br />Bruchsaler Straße 63<br />76646 Bruch
 sal-Untergrombach<br /><br />Veranstalter: <br />Christusgemeinde Unter- u
 nd Obergrombach<br />Joß-Fritz-Straße 30a<br />76646 Bruchsal-Untergrombac
 h<br />Telefon: +49 7257 924 289<br />Telefax: +49 7257 924 330<br />https
 ://christusgemeinden.de/
END:VEVENT
END:VCALENDAR
