BEGIN:VCALENDAR
VERSION:2.0
PRODID:-//christusgemeinden.de//NONSGML kigkonsult.se iCalcreator 2.41.92//
CALSCALE:GREGORIAN
METHOD:PUBLISH
UID:65396631-3433-4162-a437-656134316630
X-WR-TIMEZONE:Europe/Berlin
X-LIC-LOCATION:Europe/Berlin
BEGIN:VTIMEZONE
TZID:Europe/Berlin
BEGIN:DAYLIGHT
TZOFFSETFROM:+0100
TZOFFSETTO:+0200
TZNAME:CEST
DTSTART:19700329T020000
RRULE:FREQ=YEARLY;BYDAY=-1SU;BYMONTH=3
END:DAYLIGHT
BEGIN:STANDARD
TZOFFSETFROM:+0200
TZOFFSETTO:+0100
TZNAME:CET
DTSTART:19701025T030000
RRULE:FREQ=YEARLY;BYDAY=-1SU;BYMONTH=10
END:STANDARD
END:VTIMEZONE
BEGIN:VEVENT
UID:38393762-3336-4134-b630-383432316533
DTSTAMP:20260421T203755Z
DESCRIPTION:Wir feiern das Abendmahl\n \n Gottesdienste\n \n Liturgie: Pfar
 rerin Andrea Knauber\n Lesungen: Holger Jillich\n Orgel: Natalia Hock\n \n
  Weitere Termine:\n So. 26.04.2026\, 10:30 Uhr\n So. 10.05.2026\, 10:30 Uh
 r\n So. 31.05.2026\, 09:00 Uhr\n So. 21.06.2026\, 10:30 Uhr\n Sa. 27.06.20
 26\, 15:00 Uhr\n So. 05.07.2026\, 10:30 Uhr\n So. 19.07.2026\, 09:00 Uhr\n
  So. 02.08.2026\, 09:00 Uhr\n So. 16.08.2026\, 10:30 Uhr\n So. 30.08.2026\
 , 10:30 Uhr\n So. 13.09.2026\, 10:30 Uhr\n So. 20.09.2026\, 10:30 Uhr\n So
 . 04.10.2026\, 10:30 Uhr\n So. 11.10.2026\, 10:30 Uhr\n So. 01.11.2026\, 0
 9:00 Uhr\n So. 22.11.2026\, 10:30 Uhr\n So. 20.12.2026\, 10:30 Uhr\n Do. 2
 4.12.2026\, 15:30 Uhr\n \n Veranstaltungsort:\n Gustav-Adolf-Kirche\n Kirc
 henraum\n Bruchsaler Straße 63\n 76646 Bruchsal-Untergrombach\n \n Veranst
 alter:\n Christusgemeinde Unter- und Obergrombach\n Joß-Fritz-Straße 30a\n
  76646 Bruchsal-Untergrombach\n Telefon: +49 7257 924 289\n Telefax: +49 7
 257 924 330\n https://christusgemeinden.de/
DTSTART;TZID=Europe/Berlin:20260524T103000
DTEND;TZID=Europe/Berlin:20260524T113000
LOCATION:Gustav-Adolf-Kirche\n - Kirchenraum\n - Bruchsaler Straße 63\n - 7
 6646 Bruchsal-Untergrombach
SUMMARY:Festgottesdienst am Pfingstsonntag mit Jubelkonfirmation
X-ALT-DESC;FMTTYPE=text/html:Wir feiern das Abendmahl<br /><br />Gottesdien
 ste<br /><br />Liturgie: Pfarrerin Andrea Knauber<br />Lesungen: Holger Ji
 llich<br />Orgel: Natalia Hock<br /><br />Weitere Termine:<br />So. 26.04.
 2026\, 10:30 Uhr<br />So. 10.05.2026\, 10:30 Uhr<br />So. 31.05.2026\, 09:
 00 Uhr<br />So. 21.06.2026\, 10:30 Uhr<br />Sa. 27.06.2026\, 15:00 Uhr<br 
 />So. 05.07.2026\, 10:30 Uhr<br />So. 19.07.2026\, 09:00 Uhr<br />So. 02.0
 8.2026\, 09:00 Uhr<br />So. 16.08.2026\, 10:30 Uhr<br />So. 30.08.2026\, 1
 0:30 Uhr<br />So. 13.09.2026\, 10:30 Uhr<br />So. 20.09.2026\, 10:30 Uhr<b
 r />So. 04.10.2026\, 10:30 Uhr<br />So. 11.10.2026\, 10:30 Uhr<br />So. 01
 .11.2026\, 09:00 Uhr<br />So. 22.11.2026\, 10:30 Uhr<br />So. 20.12.2026\,
  10:30 Uhr<br />Do. 24.12.2026\, 15:30 Uhr<br /><br />Veranstaltungsort: <
 br />Gustav-Adolf-Kirche<br />Kirchenraum<br />Bruchsaler Straße 63<br />7
 6646 Bruchsal-Untergrombach<br /><br />Veranstalter: <br />Christusgemeind
 e Unter- und Obergrombach<br />Joß-Fritz-Straße 30a<br />76646 Bruchsal-Un
 tergrombach<br />Telefon: +49 7257 924 289<br />Telefax: +49 7257 924 330<
 br />https://christusgemeinden.de/
END:VEVENT
END:VCALENDAR
