BEGIN:VCALENDAR
VERSION:2.0
PRODID:-//christusgemeinden.de//NONSGML kigkonsult.se iCalcreator 2.41.92//
CALSCALE:GREGORIAN
METHOD:PUBLISH
UID:39643930-6336-4665-b563-633161303266
X-WR-TIMEZONE:Europe/Berlin
X-LIC-LOCATION:Europe/Berlin
BEGIN:VTIMEZONE
TZID:Europe/Berlin
BEGIN:DAYLIGHT
TZOFFSETFROM:+0100
TZOFFSETTO:+0200
TZNAME:CEST
DTSTART:19700329T020000
RRULE:FREQ=YEARLY;BYDAY=-1SU;BYMONTH=3
END:DAYLIGHT
BEGIN:STANDARD
TZOFFSETFROM:+0200
TZOFFSETTO:+0100
TZNAME:CET
DTSTART:19701025T030000
RRULE:FREQ=YEARLY;BYDAY=-1SU;BYMONTH=10
END:STANDARD
END:VTIMEZONE
BEGIN:VEVENT
UID:63346538-3134-4164-a137-356138373065
DTSTAMP:20260421T154932Z
DESCRIPTION:Konflikte – Im Hauskreis? Was tun\, wenn die Atmosphäre knister
 t und die Stimmung am Boden ist? Wie wäre es\, die Angst vor Auseinanderse
 tzungen und Konflikten\, in Wachsamkeit und Neugier zu wandeln? Wie wäre e
 s\, wenn der Hauskreis ein guter Ort zur konstruktiven Bearbeitung von Dif
 ferenzen\, Reibungen und Spannungen ist? Was heißt es für mich\, konfliktf
 ähig zu sein? Wie kann ich Konfliktphänomene erkennen und möglichst früh w
 ahrnehmen? Welche Möglichkeiten gibt es für mich\, mein Anliegen anzubring
 en\, ohne dass sich die Situation verschlimmert? Was kann ich zur Klärung 
 von Konflikten beitragen? Wo liegen meine persönlichen Grenzen\, wann brau
 cht es eine Unterstützung von außen?\n \n Veranstaltungsort:\n Online\n \n
  Veranstalter:\n AMD Baden in Kooperation\, Anmeldung siehe Text
DTSTART;TZID=Europe/Berlin:20260508T200000
DTEND;TZID=Europe/Berlin:20260508T213000
LOCATION:Online
SUMMARY:HIO - Hauskreis Impuls online
X-ALT-DESC;FMTTYPE=text/html:Konflikte – Im Hauskreis?\n Was tun\, wenn die
  Atmosphäre knistert und die Stimmung am Boden ist?\n Wie wäre es\, die An
 gst vor Auseinandersetzungen und Konflikten\, in Wachsamkeit und Neugier z
 u wandeln?\n Wie wäre es\, wenn der Hauskreis ein guter Ort zur konstrukti
 ven Bearbeitung von Differenzen\, Reibungen und Spannungen ist?\n Was heiß
 t es für mich\, konfliktfähig zu sein?\n Wie kann ich Konfliktphänomene er
 kennen und möglichst früh wahrnehmen?\n Welche Möglichkeiten gibt es für m
 ich\, mein Anliegen anzubringen\, ohne dass sich die Situation verschlimme
 rt?\n Was kann ich zur Klärung von Konflikten beitragen?\n Wo liegen meine
  persönlichen Grenzen\, wann braucht es eine Unterstützung von außen?<br /
 ><br />Veranstaltungsort: <br />Online<br /><br />Veranstalter: <br />AMD 
 Baden in Kooperation\, Anmeldung siehe Text
END:VEVENT
END:VCALENDAR
