BEGIN:VCALENDAR
VERSION:2.0
PRODID:-//christusgemeinden.de//NONSGML kigkonsult.se iCalcreator 2.41.92//
CALSCALE:GREGORIAN
METHOD:PUBLISH
UID:33613835-3765-4936-b864-636531333731
X-WR-TIMEZONE:Europe/Berlin
X-LIC-LOCATION:Europe/Berlin
BEGIN:VTIMEZONE
TZID:Europe/Berlin
BEGIN:DAYLIGHT
TZOFFSETFROM:+0100
TZOFFSETTO:+0200
TZNAME:CEST
DTSTART:19700329T020000
RRULE:FREQ=YEARLY;BYDAY=-1SU;BYMONTH=3
END:DAYLIGHT
BEGIN:STANDARD
TZOFFSETFROM:+0200
TZOFFSETTO:+0100
TZNAME:CET
DTSTART:19701025T030000
RRULE:FREQ=YEARLY;BYDAY=-1SU;BYMONTH=10
END:STANDARD
END:VTIMEZONE
BEGIN:VEVENT
UID:63636361-3661-4661-b838-373735616135
DTSTAMP:20260422T044020Z
DESCRIPTION:Miriam Kreppein\, Sopran\, und Manuela Weiss\, Piano und Orgel
 \n \n Veranstaltungsort:\n Stiftskirche\n Amtsgasse 3\n 75015 Bretten\n \n
  Veranstalter:\n Evangelische Kirchengemeinde Bretten und Gölshausen\n Reu
 chlinstr. 4\n 75015 Bretten\n Telefon: 07252/96388-0\n Telefax: 07252/9638
 8-90\n https://ev-kirche-bretten.de
DTSTART;TZID=Europe/Berlin:20260912T113000
DTEND;TZID=Europe/Berlin:20260912T120000
LOCATION:Stiftskirche\n - Amtsgasse 3\n - 75015 Bretten
SUMMARY:Musik zum Markt
X-ALT-DESC;FMTTYPE=text/html:Miriam Kreppein\, Sopran\, und Manuela Weiss\,
  Piano und Orgel<br /><br />Veranstaltungsort: <br />Stiftskirche<br />Amt
 sgasse 3<br />75015 Bretten<br /><br />Veranstalter: <br />Evangelische Ki
 rchengemeinde Bretten und Gölshausen<br />Reuchlinstr. 4<br />75015 Brette
 n<br />Telefon: 07252/96388-0<br />Telefax: 07252/96388-90<br />https://ev
 -kirche-bretten.de
END:VEVENT
END:VCALENDAR
