BEGIN:VCALENDAR
VERSION:2.0
PRODID:-//christusgemeinden.de//NONSGML kigkonsult.se iCalcreator 2.41.92//
CALSCALE:GREGORIAN
METHOD:PUBLISH
UID:34623562-6237-4839-b262-653832383766
X-WR-TIMEZONE:Europe/Berlin
X-LIC-LOCATION:Europe/Berlin
BEGIN:VTIMEZONE
TZID:Europe/Berlin
BEGIN:DAYLIGHT
TZOFFSETFROM:+0100
TZOFFSETTO:+0200
TZNAME:CEST
DTSTART:19700329T020000
RRULE:FREQ=YEARLY;BYDAY=-1SU;BYMONTH=3
END:DAYLIGHT
BEGIN:STANDARD
TZOFFSETFROM:+0200
TZOFFSETTO:+0100
TZNAME:CET
DTSTART:19701025T030000
RRULE:FREQ=YEARLY;BYDAY=-1SU;BYMONTH=10
END:STANDARD
END:VTIMEZONE
BEGIN:VEVENT
UID:34336165-6233-4164-b165-663765303632
DTSTAMP:20260422T133549Z
DESCRIPTION:Matinee mit Annegret Max an der Orgel\n \n Veranstaltungsort:\n
  Stiftskirche\n Amtsgasse 3\n 75015 Bretten\n \n Veranstalter:\n Evangelis
 che Kirchengemeinde Bretten und Gölshausen\n Reuchlinstr. 4\n 75015 Brette
 n\n Telefon: 07252/96388-0\n Telefax: 07252/96388-90\n https://ev-kirche-b
 retten.de
DTSTART;TZID=Europe/Berlin:20261010T113000
DTEND;TZID=Europe/Berlin:20261010T120000
LOCATION:Stiftskirche\n - Amtsgasse 3\n - 75015 Bretten
SUMMARY:Musik zum Markt
X-ALT-DESC;FMTTYPE=text/html:Matinee mit Annegret Max an der Orgel<br /><br
  />Veranstaltungsort: <br />Stiftskirche<br />Amtsgasse 3<br />75015 Brett
 en<br /><br />Veranstalter: <br />Evangelische Kirchengemeinde Bretten und
  Gölshausen<br />Reuchlinstr. 4<br />75015 Bretten<br />Telefon: 07252/963
 88-0<br />Telefax: 07252/96388-90<br />https://ev-kirche-bretten.de
END:VEVENT
END:VCALENDAR
