BEGIN:VCALENDAR
VERSION:2.0
PRODID:-//christusgemeinden.de//NONSGML kigkonsult.se iCalcreator 2.41.92//
CALSCALE:GREGORIAN
METHOD:PUBLISH
UID:37303366-3335-4065-b036-626536333236
X-WR-TIMEZONE:Europe/Berlin
X-LIC-LOCATION:Europe/Berlin
BEGIN:VTIMEZONE
TZID:Europe/Berlin
BEGIN:DAYLIGHT
TZOFFSETFROM:+0100
TZOFFSETTO:+0200
TZNAME:CEST
DTSTART:19700329T020000
RRULE:FREQ=YEARLY;BYDAY=-1SU;BYMONTH=3
END:DAYLIGHT
BEGIN:STANDARD
TZOFFSETFROM:+0200
TZOFFSETTO:+0100
TZNAME:CET
DTSTART:19701025T030000
RRULE:FREQ=YEARLY;BYDAY=-1SU;BYMONTH=10
END:STANDARD
END:VTIMEZONE
BEGIN:VEVENT
UID:36663831-3361-4633-b362-376431323037
DTSTAMP:20260422T121848Z
DESCRIPTION:Susanne Jaggy\, Blockflöte\, und Joswitha Maier\, Orgel\n \n Ve
 ranstaltungsort:\n Stiftskirche\n Amtsgasse 3\n 75015 Bretten\n \n Veranst
 alter:\n Evangelische Kirchengemeinde Bretten und Gölshausen\n Reuchlinstr
 . 4\n 75015 Bretten\n Telefon: 07252/96388-0\n Telefax: 07252/96388-90\n h
 ttps://ev-kirche-bretten.de
DTSTART;TZID=Europe/Berlin:20260711T113000
DTEND;TZID=Europe/Berlin:20260711T120000
LOCATION:Stiftskirche\n - Amtsgasse 3\n - 75015 Bretten
SUMMARY:Musik zum Markt
X-ALT-DESC;FMTTYPE=text/html:Susanne Jaggy\, Blockflöte\, und Joswitha Maie
 r\, Orgel<br /><br />Veranstaltungsort: <br />Stiftskirche<br />Amtsgasse 
 3<br />75015 Bretten<br /><br />Veranstalter: <br />Evangelische Kirchenge
 meinde Bretten und Gölshausen<br />Reuchlinstr. 4<br />75015 Bretten<br />
 Telefon: 07252/96388-0<br />Telefax: 07252/96388-90<br />https://ev-kirche
 -bretten.de
END:VEVENT
END:VCALENDAR
