BEGIN:VCALENDAR
VERSION:2.0
PRODID:-//christusgemeinden.de//NONSGML kigkonsult.se iCalcreator 2.41.92//
CALSCALE:GREGORIAN
METHOD:PUBLISH
UID:62353831-3463-4364-a633-313532346638
X-WR-TIMEZONE:Europe/Berlin
X-LIC-LOCATION:Europe/Berlin
BEGIN:VTIMEZONE
TZID:Europe/Berlin
BEGIN:DAYLIGHT
TZOFFSETFROM:+0100
TZOFFSETTO:+0200
TZNAME:CEST
DTSTART:19700329T020000
RRULE:FREQ=YEARLY;BYDAY=-1SU;BYMONTH=3
END:DAYLIGHT
BEGIN:STANDARD
TZOFFSETFROM:+0200
TZOFFSETTO:+0100
TZNAME:CET
DTSTART:19701025T030000
RRULE:FREQ=YEARLY;BYDAY=-1SU;BYMONTH=10
END:STANDARD
END:VTIMEZONE
BEGIN:VEVENT
UID:39633665-6639-4462-b039-326236623534
DTSTAMP:20260422T105650Z
DESCRIPTION:Das Kleine Konzert mit Lehrkräften der Jugendmusikschule Brette
 n\n \n Veranstaltungsort:\n Kreuzkirche Bretten\n Untere Kirchgasse 9\n 75
 015 Bretten\n \n Veranstalter:\n Evangelische Kirchengemeinde Bretten und 
 Gölshausen\n Reuchlinstr. 4\n 75015 Bretten\n Telefon: 07252/96388-0\n Tel
 efax: 07252/96388-90\n https://ev-kirche-bretten.de
DTSTART;TZID=Europe/Berlin:20261004T111500
DTEND;TZID=Europe/Berlin:20261004T120000
LOCATION:Kreuzkirche Bretten\n - Untere Kirchgasse 9\n - 75015 Bretten
SUMMARY:Das Kleine Konzert
X-ALT-DESC;FMTTYPE=text/html:Das Kleine Konzert mit Lehrkräften der Jugendm
 usikschule Bretten<br /><br />Veranstaltungsort: <br />Kreuzkirche Bretten
 <br />Untere Kirchgasse 9<br />75015 Bretten<br /><br />Veranstalter: <br 
 />Evangelische Kirchengemeinde Bretten und Gölshausen<br />Reuchlinstr. 4<
 br />75015 Bretten<br />Telefon: 07252/96388-0<br />Telefax: 07252/96388-9
 0<br />https://ev-kirche-bretten.de
END:VEVENT
END:VCALENDAR
