BEGIN:VCALENDAR
VERSION:2.0
PRODID:-//christusgemeinden.de//NONSGML kigkonsult.se iCalcreator 2.41.92//
CALSCALE:GREGORIAN
METHOD:PUBLISH
UID:64343564-3637-4939-a362-623739643366
X-WR-TIMEZONE:Europe/Berlin
X-LIC-LOCATION:Europe/Berlin
BEGIN:VTIMEZONE
TZID:Europe/Berlin
BEGIN:DAYLIGHT
TZOFFSETFROM:+0100
TZOFFSETTO:+0200
TZNAME:CEST
DTSTART:19700329T020000
RRULE:FREQ=YEARLY;BYDAY=-1SU;BYMONTH=3
END:DAYLIGHT
BEGIN:STANDARD
TZOFFSETFROM:+0200
TZOFFSETTO:+0100
TZNAME:CET
DTSTART:19701025T030000
RRULE:FREQ=YEARLY;BYDAY=-1SU;BYMONTH=10
END:STANDARD
END:VTIMEZONE
BEGIN:VEVENT
UID:36653931-3337-4263-b033-613763343634
DTSTAMP:20260421T235544Z
DESCRIPTION:Anette Giesche\, Flöte\, und Bärbel Tschochohei\, Piano und Org
 el\, laden im Juni diesen Jahres wieder nach Gölshausen ein!\n \n Veransta
 ltungsort:\n Kreuzkirche Bretten\n Untere Kirchgasse 9\n 75015 Bretten\n 
 \n Veranstalter:\n Evangelische Kirchengemeinde Bretten und Gölshausen\n R
 euchlinstr. 4\n 75015 Bretten\n Telefon: 07252/96388-0\n Telefax: 07252/96
 388-90\n https://ev-kirche-bretten.de
DTSTART;TZID=Europe/Berlin:20260607T111500
DTEND;TZID=Europe/Berlin:20260607T120000
LOCATION:Kreuzkirche Bretten\n - Untere Kirchgasse 9\n - 75015 Bretten
SUMMARY:Das Kleine Konzert - wo anders
X-ALT-DESC;FMTTYPE=text/html:Anette Giesche\, Flöte\, und Bärbel Tschochohe
 i\, Piano und Orgel\, laden im Juni diesen Jahres wieder nach Gölshausen e
 in!<br /><br />Veranstaltungsort: <br />Kreuzkirche Bretten<br />Untere Ki
 rchgasse 9<br />75015 Bretten<br /><br />Veranstalter: <br />Evangelische 
 Kirchengemeinde Bretten und Gölshausen<br />Reuchlinstr. 4<br />75015 Bret
 ten<br />Telefon: 07252/96388-0<br />Telefax: 07252/96388-90<br />https://
 ev-kirche-bretten.de
END:VEVENT
END:VCALENDAR
