BEGIN:VCALENDAR
VERSION:2.0
PRODID:-//christusgemeinden.de//NONSGML kigkonsult.se iCalcreator 2.41.92//
CALSCALE:GREGORIAN
METHOD:PUBLISH
UID:37626332-3639-4337-b336-626231336338
X-WR-TIMEZONE:Europe/Berlin
X-LIC-LOCATION:Europe/Berlin
BEGIN:VTIMEZONE
TZID:Europe/Berlin
BEGIN:DAYLIGHT
TZOFFSETFROM:+0100
TZOFFSETTO:+0200
TZNAME:CEST
DTSTART:19700329T020000
RRULE:FREQ=YEARLY;BYDAY=-1SU;BYMONTH=3
END:DAYLIGHT
BEGIN:STANDARD
TZOFFSETFROM:+0200
TZOFFSETTO:+0100
TZNAME:CET
DTSTART:19701025T030000
RRULE:FREQ=YEARLY;BYDAY=-1SU;BYMONTH=10
END:STANDARD
END:VTIMEZONE
BEGIN:VEVENT
UID:62326637-3436-4365-a364-383633623366
DTSTAMP:20260422T013646Z
DESCRIPTION:Die Sammlung der Kollekte ist ein wichtiger Bestandteil des Got
 tesdienstes: Damit beginnt der Weg\, von der Predigt ausgehend\, die Botsc
 haft von der Liebe Gottes im Alltag der Menschen sichtbar und erfahrbar we
 rden zu lassen. Den Kirchengemeinden steht unter www.ekiba.de/kollektenpla
 n viel Material zur Verfügung. Über das Spendenportal www.gutes-spenden.de
  kann auch das Opfer für die eigene Kirchengemeinde beworben werden. Über 
 alles das informiert der Kollekten-Workshop in der ersten Stunde. Im zweit
 en Teil üben wir ganz praktisch\, wie eigene Kollektenzwecke so einladend 
 bekanntgegeben werden können\, dass die Gottesdienstbesucher*innen zum Geb
 en animiert werden. Die Fortbildung richtet sich an Pfarrer*innen\, aber a
 uch an Kirchengemeinderät*innen und andere\, die am Thema „Kollekten“ inte
 ressiert sind. Zur Anmeldung\n \n Veranstaltungsort:\n digitale Veranstalt
 ung\n \n Veranstalter:\n Servicestelle Fundraising und Beziehungspflege\n 
 Blumenstraße 1-7\n 76133 Karlsruhe\n Telefon: 0721 91 75 811\n Telefax: 07
 21 91 75 25 820\n http://www.ekiba.de/fundraising
DTSTART;TZID=Europe/Berlin:20260709T190000
DTEND;TZID=Europe/Berlin:20260709T210000
LOCATION:digitale Veranstaltung
SUMMARY:Workshop „Kollekten und Kollektenabkündigungen'
X-ALT-DESC;FMTTYPE=text/html:Die Sammlung der Kollekte ist ein wichtiger Be
 standteil des Gottesdienstes: Damit beginnt der Weg\, von der Predigt ausg
 ehend\, die Botschaft von der Liebe Gottes im Alltag der Menschen sichtbar
  und erfahrbar werden zu lassen.\n Den Kirchengemeinden steht unter www.ek
 iba.de/kollektenplan viel Material zur Verfügung.\n Über das Spendenportal
  www.gutes-spenden.de kann auch das Opfer für die eigene Kirchengemeinde b
 eworben werden.\n \n Über alles das informiert der Kollekten-Workshop in d
 er ersten Stunde. Im zweiten Teil üben wir ganz praktisch\, wie eigene Kol
 lektenzwecke so einladend bekanntgegeben werden können\, dass die Gottesdi
 enstbesucher*innen zum Geben animiert werden.\n Die Fortbildung richtet si
 ch an Pfarrer*innen\, aber auch an Kirchengemeinderät*innen und andere\, d
 ie am Thema „Kollekten“ interessiert sind.\n \n \n Zur Anmeldung<br /><br 
 />Veranstaltungsort: <br />digitale Veranstaltung<br /><br />Veranstalter:
  <br />Servicestelle Fundraising und Beziehungspflege<br />Blumenstraße 1-
 7<br />76133 Karlsruhe<br />Telefon: 0721 91 75 811<br />Telefax: 0721 91 
 75 25 820<br />http://www.ekiba.de/fundraising
END:VEVENT
END:VCALENDAR
