BEGIN:VCALENDAR
VERSION:2.0
PRODID:-//christusgemeinden.de//NONSGML kigkonsult.se iCalcreator 2.41.92//
CALSCALE:GREGORIAN
METHOD:PUBLISH
UID:34306361-3830-4566-b231-663933643438
X-WR-TIMEZONE:Europe/Berlin
X-LIC-LOCATION:Europe/Berlin
BEGIN:VTIMEZONE
TZID:Europe/Berlin
BEGIN:DAYLIGHT
TZOFFSETFROM:+0100
TZOFFSETTO:+0200
TZNAME:CEST
DTSTART:19700329T020000
RRULE:FREQ=YEARLY;BYDAY=-1SU;BYMONTH=3
END:DAYLIGHT
BEGIN:STANDARD
TZOFFSETFROM:+0200
TZOFFSETTO:+0100
TZNAME:CET
DTSTART:19701025T030000
RRULE:FREQ=YEARLY;BYDAY=-1SU;BYMONTH=10
END:STANDARD
END:VTIMEZONE
BEGIN:VEVENT
UID:36393831-6263-4638-b366-636361613639
DTSTAMP:20260421T221605Z
DESCRIPTION:Teil 1: Donnerstag 25.06.2026 Teil 2: Donnerstag 02.07.2026 jew
 eils 19:00-21:45 Uhr Kaum ein anderer Bereich des Fundraisings ist im kirc
 hlichen Bereich so umstritten wie das Werben um Vermächtnisse und Erbschaf
 ten. Das erstaunt. Denn man sollte meinen\, dass gerade die Kirche im Them
 enfeld Leben und Tod besondere Kompetenz aufweist. Dennoch oder gerade des
 halb scheint es einen unaufhebbaren Konflikt zwischen seelsorgerlicher Auf
 gabe und dem Werben um Nachlässe zu geben. „Erbschleicherei“ lautet der Vo
 rwurf – dabei geht es gerade um das Gegenteil: Um Vertrauen\, um Gemeinsch
 aft\, um lebenslange Bindung\, um gemeinsame Ziele\, um das\, was über das
  eigene Leben hinausweist. Zur Anmeldung\n \n Veranstaltungsort:\n Online
 \n \n Veranstalter:\n Servicestelle Fundraising und Beziehungspflege\n Blu
 menstraße 1-7\n 76133 Karlsruhe\n Telefon: 0721 91 75 811\n Telefax: 0721 
 91 75 25 820\n http://www.ekiba.de/fundraising
DTSTART;TZID=Europe/Berlin:20260625T190000
DTEND;TZID=Europe/Berlin:20260625T214500
LOCATION:Online
SUMMARY:„WAS BLEIBT.“ - Erbschaftsfundraising im kirchlichen Kontext
X-ALT-DESC;FMTTYPE=text/html:Teil 1: Donnerstag 25.06.2026\n Teil 2: Donner
 stag 02.07.2026\n jeweils 19:00-21:45 Uhr\n \n Kaum ein anderer Bereich de
 s Fundraisings ist im kirchlichen Bereich so umstritten wie das Werben um 
 Vermächtnisse und Erbschaften. Das erstaunt. Denn man sollte meinen\, dass
  gerade die Kirche im Themenfeld Leben und Tod besondere Kompetenz aufweis
 t.\n Dennoch oder gerade deshalb scheint es einen unaufhebbaren Konflikt z
 wischen seelsorgerlicher Aufgabe und dem Werben um Nachlässe zu geben. „Er
 bschleicherei“ lautet der Vorwurf – dabei geht es gerade um das Gegenteil:
  Um Vertrauen\, um Gemeinschaft\, um lebenslange Bindung\, um gemeinsame Z
 iele\, um das\, was über das eigene Leben hinausweist.\n \n Zur Anmeldung<
 br /><br />Veranstaltungsort: <br />Online<br /><br />Veranstalter: <br />
 Servicestelle Fundraising und Beziehungspflege<br />Blumenstraße 1-7<br />
 76133 Karlsruhe<br />Telefon: 0721 91 75 811<br />Telefax: 0721 91 75 25 8
 20<br />http://www.ekiba.de/fundraising
END:VEVENT
END:VCALENDAR
