BEGIN:VCALENDAR
VERSION:2.0
PRODID:-//christusgemeinden.de//NONSGML kigkonsult.se iCalcreator 2.41.92//
CALSCALE:GREGORIAN
METHOD:PUBLISH
UID:32373766-6639-4135-a663-353562623233
X-WR-TIMEZONE:Europe/Berlin
X-LIC-LOCATION:Europe/Berlin
BEGIN:VTIMEZONE
TZID:Europe/Berlin
BEGIN:DAYLIGHT
TZOFFSETFROM:+0100
TZOFFSETTO:+0200
TZNAME:CEST
DTSTART:19700329T020000
RRULE:FREQ=YEARLY;BYDAY=-1SU;BYMONTH=3
END:DAYLIGHT
BEGIN:STANDARD
TZOFFSETFROM:+0200
TZOFFSETTO:+0100
TZNAME:CET
DTSTART:19701025T030000
RRULE:FREQ=YEARLY;BYDAY=-1SU;BYMONTH=10
END:STANDARD
END:VTIMEZONE
BEGIN:VEVENT
UID:37356139-6666-4538-b061-373033643866
DTSTAMP:20260421T203844Z
DESCRIPTION:Grundlagen für die Arbeit mit der Fundraising-Software\n \n Tei
 l 1: Mittwoch 29.04.2026 Teil 2: Mittwoch 06.05.2026 Teil 3: Mittwoch 13.0
 5.2026 jeweils 10:00 bis 12:30 Uhr In diesem Webinar lernen Sie an drei Vo
 rmittagen die Grundlagen kennen\, um selbständig erste Fundraising-Projekt
 e mit Software zu unterstützen. COM.fundraising ist eine leistungsfähige F
 undraising-Software\, die speziell für die Bedürfnisse kirchlicher Nutzer 
 entwickelt worden ist (z.B. Nutzung kirchlicher Meldewesendaten\, kamerale
  und kaufmännische Buchhaltung\, Abbildung kirchlicher Organisationsstrukt
 uren etc.). COM.fundraising ist eine Webapplikation mit klarer Benutzerfüh
 rung und hervorragendem Support. Zur Anmeldung\n \n Veranstaltungsort:\n d
 igitale Veranstaltung\n \n Veranstalter:\n Servicestelle Fundraising und B
 eziehungspflege\n Blumenstraße 1-7\n 76133 Karlsruhe\n Telefon: 0721 91 75
  811\n Telefax: 0721 91 75 25 820\n http://www.ekiba.de/fundraising
DTSTART;TZID=Europe/Berlin:20260429T100000
DTEND;TZID=Europe/Berlin:20260429T123000
LOCATION:digitale Veranstaltung
SUMMARY:Fundraisingsoftware - Einführungskurs
X-ALT-DESC;FMTTYPE=text/html:Grundlagen für die Arbeit mit der Fundraising-
 Software<br /><br />Teil 1: Mittwoch 29.04.2026\nTeil 2: Mittwoch 06.05.20
 26\nTeil 3: Mittwoch 13.05.2026\njeweils 10:00 bis 12:30 Uhr\nIn diesem We
 binar lernen Sie an drei Vormittagen die Grundlagen kennen\, um selbständi
 g erste Fundraising-Projekte mit Software zu unterstützen. COM.fundraising
  ist eine leistungsfähige Fundraising-Software\, die speziell für die Bedü
 rfnisse kirchlicher Nutzer entwickelt worden ist (z.B. Nutzung kirchlicher
  Meldewesendaten\, kamerale und kaufmännische Buchhaltung\, Abbildung kirc
 hlicher Organisationsstrukturen etc.). COM.fundraising ist eine Webapplika
 tion mit klarer Benutzerführung und hervorragendem Support.\nZur Anmeldung
 <br /><br />Veranstaltungsort: <br />digitale Veranstaltung<br /><br />Ver
 anstalter: <br />Servicestelle Fundraising und Beziehungspflege<br />Blume
 nstraße 1-7<br />76133 Karlsruhe<br />Telefon: 0721 91 75 811<br />Telefax
 : 0721 91 75 25 820<br />http://www.ekiba.de/fundraising
END:VEVENT
END:VCALENDAR
