BEGIN:VCALENDAR
VERSION:2.0
PRODID:-//christusgemeinden.de//NONSGML kigkonsult.se iCalcreator 2.41.92//
CALSCALE:GREGORIAN
METHOD:PUBLISH
UID:61376135-6333-4261-a362-613365363466
X-WR-TIMEZONE:Europe/Berlin
X-LIC-LOCATION:Europe/Berlin
BEGIN:VTIMEZONE
TZID:Europe/Berlin
BEGIN:DAYLIGHT
TZOFFSETFROM:+0100
TZOFFSETTO:+0200
TZNAME:CEST
DTSTART:19700329T020000
RRULE:FREQ=YEARLY;BYDAY=-1SU;BYMONTH=3
END:DAYLIGHT
BEGIN:STANDARD
TZOFFSETFROM:+0200
TZOFFSETTO:+0100
TZNAME:CET
DTSTART:19701025T030000
RRULE:FREQ=YEARLY;BYDAY=-1SU;BYMONTH=10
END:STANDARD
END:VTIMEZONE
BEGIN:VEVENT
UID:36303862-3038-4961-b637-376436393863
DTSTAMP:20260421T153536Z
DESCRIPTION:Anatomie eines Falls ist ein französischer Spielfilm von Justin
 e Triet mit dem Originaltitel „Anatomie d’une chute“. Der Film aus dem Jah
 r 2023 erzählt die Geschichte einer Ehefrau unter Mordverdacht. Nachdem ih
 r Mann unter ungeklärten Umständen zu Tode kommt\, gerät sie ins Fadenkreu
 z der Ermittlungen. Wie es sich für das Genre des Justizdramas gehört\, we
 rden auf der Suche nach der Wahrheit zahlreiche Geheimnisse enthüllt. Dabe
 i glänzt der Film mit einer einzigartigen Dramaturgie und Schauspielleistu
 ng\, insbesondere von Hauptdarstellerin Sandra Hüller. Kein Wunder\, dass 
 dieses spannende Drama bei den Filmfestspielen in Cannes bereits die Golde
 ne Palme für den besten Film erhielt\, den Europäischen Filmpreis und zwei
  Golden Globes gewann und nun bei den Oscarverleihungen 2024 mit einem Osc
 ar für das beste Drehbuch ausgezeichnet wurde.\n \n Veranstaltungsort:\n K
 inemathek Karlsruhe e.V.\n Kaiserpassage 6\n 76133 Karlsruhe\n \n Veransta
 lter:\n junge alte und Kinemathek Karlsruhe e.V.\n https://www.jungealte.i
 nfo/
DTSTART;TZID=Europe/Berlin:20260430T150000
DTEND;TZID=Europe/Berlin:20260430T170000
LOCATION:Kinemathek Karlsruhe e.V.\n - Kaiserpassage 6\n - 76133 Karlsruhe
SUMMARY:Kinotreff in der Kinemathek: 'Anatomie eines Falles'
X-ALT-DESC;FMTTYPE=text/html:Anatomie eines Falls ist ein französischer Spi
 elfilm von Justine Triet mit dem Originaltitel „Anatomie d’une chute“. Der
  Film aus dem Jahr 2023 erzählt die Geschichte einer Ehefrau unter Mordver
 dacht. Nachdem ihr Mann unter ungeklärten Umständen zu Tode kommt\, gerät 
 sie ins Fadenkreuz der Ermittlungen. Wie es sich für das Genre des Justizd
 ramas gehört\, werden auf der Suche nach der Wahrheit zahlreiche Geheimnis
 se enthüllt. Dabei glänzt der Film mit einer einzigartigen Dramaturgie und
  Schauspielleistung\, insbesondere von Hauptdarstellerin Sandra Hüller. Ke
 in Wunder\, dass dieses spannende Drama bei den Filmfestspielen in Cannes 
 bereits die Goldene Palme für den besten Film erhielt\, den Europäischen F
 ilmpreis und zwei Golden Globes gewann und nun bei den Oscarverleihungen 2
 024 mit einem Oscar für das beste Drehbuch ausgezeichnet wurde.<br /><br /
 >Veranstaltungsort: <br />Kinemathek Karlsruhe e.V.<br />Kaiserpassage 6<b
 r />76133 Karlsruhe<br /><br />Veranstalter: <br />junge alte und Kinemath
 ek Karlsruhe e.V.<br />https://www.jungealte.info/
END:VEVENT
END:VCALENDAR
