BEGIN:VCALENDAR
VERSION:2.0
PRODID:-//christusgemeinden.de//NONSGML kigkonsult.se iCalcreator 2.41.92//
CALSCALE:GREGORIAN
METHOD:PUBLISH
UID:34323935-3762-4637-a162-613264613236
X-WR-TIMEZONE:Europe/Berlin
X-LIC-LOCATION:Europe/Berlin
BEGIN:VTIMEZONE
TZID:Europe/Berlin
BEGIN:DAYLIGHT
TZOFFSETFROM:+0100
TZOFFSETTO:+0200
TZNAME:CEST
DTSTART:19700329T020000
RRULE:FREQ=YEARLY;BYDAY=-1SU;BYMONTH=3
END:DAYLIGHT
BEGIN:STANDARD
TZOFFSETFROM:+0200
TZOFFSETTO:+0100
TZNAME:CET
DTSTART:19701025T030000
RRULE:FREQ=YEARLY;BYDAY=-1SU;BYMONTH=10
END:STANDARD
END:VTIMEZONE
BEGIN:VEVENT
UID:64363434-6133-4362-b363-616561303661
DTSTAMP:20260421T235834Z
DESCRIPTION:'Der stille Freund' von Ferdinand von Schirach Leitung: Juliane
  Aschoff Sekretariat Evangelische Erwachsenenbildung: Telefon 0721/167-120
 1\n \n Veranstaltungsort:\n Gemeindehaus Am Zwinger 5\n Am Zwinger 5\n Kar
 lsruhe-Durlach\n \n Veranstalter:\n junge alte\n Karlsruhe\n https://www.j
 ungealte.info
DTSTART;TZID=Europe/Berlin:20260713T150000
DTEND;TZID=Europe/Berlin:20260713T170000
LOCATION:Gemeindehaus Am Zwinger 5\n - Am Zwinger 5\n - Karlsruhe-Durlach
SUMMARY:Literaturcafé - Ferdinand von Schirach - Der stille Freund
X-ALT-DESC;FMTTYPE=text/html:'Der stille Freund' von Ferdinand von Schirach
 \n \n Leitung: Juliane Aschoff\n \n Sekretariat Evangelische Erwachsenenbi
 ldung: Telefon 0721/167-1201<br /><br />Veranstaltungsort: <br />Gemeindeh
 aus Am Zwinger 5<br />Am Zwinger 5<br />Karlsruhe-Durlach<br /><br />Veran
 stalter: <br />junge alte<br />Karlsruhe<br />https://www.jungealte.info
END:VEVENT
END:VCALENDAR
