BEGIN:VCALENDAR
VERSION:2.0
PRODID:-//christusgemeinden.de//NONSGML kigkonsult.se iCalcreator 2.41.92//
CALSCALE:GREGORIAN
METHOD:PUBLISH
UID:36393564-6364-4365-a135-356263623366
X-WR-TIMEZONE:Europe/Berlin
X-LIC-LOCATION:Europe/Berlin
BEGIN:VTIMEZONE
TZID:Europe/Berlin
BEGIN:DAYLIGHT
TZOFFSETFROM:+0100
TZOFFSETTO:+0200
TZNAME:CEST
DTSTART:19700329T020000
RRULE:FREQ=YEARLY;BYDAY=-1SU;BYMONTH=3
END:DAYLIGHT
BEGIN:STANDARD
TZOFFSETFROM:+0200
TZOFFSETTO:+0100
TZNAME:CET
DTSTART:19701025T030000
RRULE:FREQ=YEARLY;BYDAY=-1SU;BYMONTH=10
END:STANDARD
END:VTIMEZONE
BEGIN:VEVENT
UID:36386166-3238-4465-b037-333266636165
DTSTAMP:20260421T235729Z
DESCRIPTION:'Die neuen Leiden des jungen Werther' von Ulrich Plenzdorf Leit
 ung: Gudrun Reiß Sekretariat Evangelische Erwachsenenbildung: Telefon 0721
 /167-1201\n \n Veranstaltungsort:\n Gemeindehaus Am Zwinger 5\n Am Zwinger
  5\n Karlsruhe-Durlach\n \n Veranstalter:\n junge alte\n Karlsruhe\n https
 ://www.jungealte.info
DTSTART;TZID=Europe/Berlin:20260608T150000
DTEND;TZID=Europe/Berlin:20260608T170000
LOCATION:Gemeindehaus Am Zwinger 5\n - Am Zwinger 5\n - Karlsruhe-Durlach
SUMMARY:Literaturcafé - Ulrich Plenzdorf - Die neuen Leiden des jungen Wert
 her
X-ALT-DESC;FMTTYPE=text/html:'Die neuen Leiden des jungen Werther' von Ulri
 ch Plenzdorf\n \n Leitung: Gudrun Reiß\n \n Sekretariat Evangelische Erwac
 hsenenbildung: Telefon 0721/167-1201<br /><br />Veranstaltungsort: <br />G
 emeindehaus Am Zwinger 5<br />Am Zwinger 5<br />Karlsruhe-Durlach<br /><br
  />Veranstalter: <br />junge alte<br />Karlsruhe<br />https://www.jungealt
 e.info
END:VEVENT
END:VCALENDAR
